Workbook

Sheet Total
J1: 42651
D2: Punkteklassement 2016
D5: Name | E5: Kat. | G5: PUNKTE der 10 besten Preisfischen | H5: GEWICHT der 10 besten Preisfischen | J5: Gewiicht vun denen 4 Manchen fir den Ulzecht-Champion
A6: 1 | B6: =Concours!G119 -> 26 | C6: =Concours!H119 -> 59690 | D6: Gonring Jang | E6: Vet | G6: =B6 -> 26 | H6: =C6 -> 59690 | J6: =Alzette!E29 -> 610
A7: 2 | B7: =Concours!G371 -> 33 | C7: =Concours!H371 -> 17980 | D7: Lallemang Leon | E7: Sen | G7: =B7 -> 33 | H7: =C7 -> 17980 | J7: =Alzette!E85 -> 330
A8: 3 | B8: =Concours!G389 -> 34 | C8: =Concours!H389 -> 25710 | D8: Mudeler Johny | E8: Sen | G8: =B8 -> 34 | H8: =C8 -> 25710 | J8: =Alzette!E89 -> 2380
A9: 4 | B9: =Concours!G245 -> 34 | C9: =Concours!H245 -> 15380 | D9: Huberty Mike | E9: Sen | G9: =B9 -> 34 | H9: =C9 -> 15380 | J9: =Alzette!E57 -> 1540
A10: 5 | B10: =Concours!G101 -> 35 | C10: =Concours!H101 -> 21600 | D10: Geiben Carlo | E10: Vet | G10: =B10 -> 35 | H10: =C10 -> 21600 | J10: =Alzette!E25 -> 640
A11: 6 | B11: =Concours!G425 -> 36 | C11: =Concours!H425 -> 28290 | D11: Reding Serge | E11: Sen | G11: =B11 -> 36 | H11: =C11 -> 28290 | J11: =Alzette!E97 -> 9770
A12: 7 | B12: =Concours!G317 -> 43 | C12: =Concours!H317 -> 14900 | D12: Kartheiser Gilles | E12: Sen | G12: =B12 -> 43 | H12: =C12 -> 14900 | J12: =Alzette!E73 -> 1090
A13: 8 | B13: =Concours!G209 -> 55 | C13: =Concours!H209 -> 15560 | D13: Heirens Albert | E13: Vet | G13: =B13 -> 55 | H13: =C13 -> 15560 | J13: =Alzette!E49 -> 180
A14: 9 | B14: =Concours!G137 -> 71 | C14: =Concours!H137 -> 11820 | D14: Hahn Francis | E14: Sen | G14: =B14 -> 71 | H14: =C14 -> 11820 | J14: =Alzette!E33 -> 0
A15: 10 | B15: =Concours!G227 -> 86 | C15: =Concours!H227 -> 8540 | D15: Huberty Nico | E15: Vet | G15: =B15 -> 86 | H15: =C15 -> 8540 | J15: =Alzette!E53 -> 0
A16: 11 | B16: =Concours!G479 -> 91 | C16: =Concours!H479 -> 6040 | D16: Schmitz Ben | E16: U23 | G16: =B16 -> 91 | H16: =C16 -> 6040 | J16: =Alzette!E109 -> 150
A17: 12 | B17: =Concours!G533 -> 109 | C17: =Concours!H533 -> 3820 | D17: Weirich Serge | E17: Sen | G17: =B17 -> 109 | H17: =C17 -> 3820 | J17: =Alzette!E121 -> 780
A18: 13 | B18: =Concours!G173 -> 117 | C18: =Concours!H173 -> 7820 | D18: Hari Pol | E18: Sen | G18: =B18 -> 117 | H18: =C18 -> 7820 | J18: =Alzette!E41 -> 180
A19: 14 | B19: =Concours!G155 -> 121 | C19: =Concours!H155 -> 13300 | D19: Hanff Francois | E19: Sen | G19: =B19 -> 121 | H19: =C19 -> 13300 | J19: =Alzette!E37 -> 0
A20: 15 | B20: =Concours!G461 -> 124 | C20: =Concours!H461 -> 1360 | D20: Schmitt Victor | E20: Vet | G20: =B20 -> 124 | H20: =C20 -> 1360 | J20: =Alzette!E105 -> 0
A21: 16 | B21: =Concours!G263 -> 139 | C21: =Concours!H263 -> 1690 | D21: Huberty Steve | E21: Sen | G21: =B21 -> 139 | H21: =C21 -> 1690 | J21: =Alzette!E61 -> 740
A22: 17 | B22: =Concours!G407 -> 145 | C22: =Concours!H407 -> 1670 | D22: Prim Jean | E22: Vet | G22: =B22 -> 145 | H22: =C22 -> 1670 | J22: =Alzette!E93 -> 0
A23: 18 | B23: =Concours!G335 -> 147 | C23: =Concours!H335 -> 3540 | D23: Koetz Marc | E23: Sen | G23: =B23 -> 147 | H23: =C23 -> 3540 | J23: =Alzette!E77 -> 0
A24: 19 | B24: =Concours!G29 -> 163 | C24: =Concours!H29 -> 930 | D24: Metzger Fernand | E24: Sen | G24: =B24 -> 163 | H24: =C24 -> 930 | J24: =Alzette!E9 -> 690
A25: 20 | B25: =Concours!G47 -> 172 | C25: =Concours!H47 -> 110 | D25: Boewer Nic | E25: Vet | G25: =B25 -> 172 | H25: =C25 -> 110 | J25: =Alzette!E13 -> 110
A26: 21 | B26: =Concours!G443 -> 173 | C26: =Concours!H443 -> 2720 | D26: Royer René | E26: Sen | G26: =B26 -> 173 | H26: =C26 -> 2720 | J26: =Alzette!E101 -> 2720
A27: 22 | B27: =Concours!G551 -> 179 | C27: =Concours!H551 -> 410 | D27: Mossong Yves | E27: Sen | G27: =B27 -> 179 | H27: =C27 -> 410 | J27: =Alzette!E125 -> 40
A28: 23 | B28: =Concours!G515 -> 179 | C28: =Concours!H515 -> 100 | D28: Schmit Frank | E28: Sen | G28: =B28 -> 179 | H28: =C28 -> 100 | J28: =Alzette!E117 -> 100
A29: 24 | B29: =Concours!G11 -> 183 | C29: =Concours!H11 -> 340 | D29: Beckers Yannick | E29: U14 | G29: =B29 -> 183 | H29: =C29 -> 340 | J29: =Alzette!E5 -> 0
A30: 25 | B30: =Concours!G65 -> 188 | C30: =Concours!H65 -> 90 | D30: Braun Myriam | E30: Dam | G30: =B30 -> 188 | H30: =C30 -> 90 | J30: =Alzette!E17 -> 90
A31: 26 | B31: =Concours!G281 -> 203 | C31: =Concours!H281 -> 0 | D31: Jaeger J-M | E31: Vet | G31: =B31 -> 203 | H31: =C31 -> 0 | J31: =Alzette!E65 -> 0
A32: 27 | B32: =Concours!G83 -> 211 | C32: =Concours!H83 -> 0 | D32: Braun Mike | E32: Sen | G32: =B32 -> 211 | H32: =C32 -> 0 | J32: =Alzette!E21 -> 0
A33: 28 | B33: =Concours!G191 -> 213 | C33: =Concours!H191 -> 0 | D33: Haupert Paul | E33: Vet | G33: =B33 -> 213 | H33: =C33 -> 0 | J33: =Alzette!E45 -> 0
A34: 29 | B34: =Concours!G353 -> 213 | C34: =Concours!H353 -> 0 | D34: Lagodny Tom | E34: Sen | G34: =B34 -> 213 | H34: =C34 -> 0 | J34: =Alzette!E81 -> 0
A35: 30 | B35: =Concours!G299 -> 213 | C35: =Concours!H299 -> 0 | D35: Kaiser Guy | E35: Sen | G35: =B35 -> 213 | H35: =C35 -> 0 | J35: =Alzette!E69 -> 0
A36: 31 | B36: =Concours!G497 -> 213 | C36: =Concours!H497 -> 0 | D36: Stamet Guy | E36: Sen | G36: =B36 -> 213 | H36: =C36 -> 0 | J36: =Alzette!E113 -> 0
A37: 32 | B37: =Concours!G569 -> 236 | C37: =Concours!H569 -> 0 | D37: X4 | G37: =B37 -> 236 | H37: =C37 -> 0 | J37: =Alzette!E129 -> 0
A38: 33 | B38: =Concours!G587 -> 236 | C38: =Concours!H587 -> 0 | D38: X5 | G38: =B38 -> 236 | H38: =C38 -> 0 | J38: =Alzette!E133 -> 0

Sheet Concours
B1: Datum | C1: Organisator | D1: Name | E1: Punkte | F1: Gewicht | G1: Punkte | H1: Gewicht
A2: =E2 -> 7 | B2: 42617 | C2: Diekirch | D2: Beckers Yannick | E2: 7 | F2: 340
A3: =E3 -> 15 | B3: 42624 | C3: Ueschdref 2000 | D3: Beckers Yannick | E3: 15 | F3: 0
A4: =E4 -> 17 | B4: 42610 | C4: Rodange | D4: Beckers Yannick | E4: 17 | F4: /
A5: =E5 -> 20 | B5: 42561 | C5: 1. Manche | D5: Beckers Yannick | E5: 20 | F5: 0
A6: =E6 -> 20 | B6: 42568 | C6: Stadtbredimus | D6: Beckers Yannick | E6: 20 | F6: /
A7: =E7 -> 20 | B7: 42589 | C7: Steinsel | D7: Beckers Yannick | E7: 20 | F7: /
A8: =E8 -> 20 | B8: 42596 | C8: Section Compétition | D8: Beckers Yannick | E8: 20 | F8: /
A9: =E9 -> 21 | B9: 42554 | C9: Bettembourg | D9: Beckers Yannick | E9: 21 | F9: /
A10: =E10 -> 21 | B10: 42582 | C10: Pétange | D10: Beckers Yannick | E10: 21 | F10: /
A11: =E11 -> 22 | B11: 42547 | C11: Péiteschfeier | D11: Beckers Yannick | E11: 22 | F11: / | G11: =SUM(E2:E11) -> 183 | H11: =SUM(F2:F11) -> 340
A12: =E12 -> 24 | B12: 42575 | C12: Echternach | D12: Beckers Yannick | E12: 24 | F12: /
A13: =E13 -> 24 | B13: 42631 | C13: Gilsdorf | D13: Beckers Yannick | E13: 24 | F13: /
A14: =E14 -> 25 | B14: 42603 | C14: Coupe de la Sure | D14: Beckers Yannick | E14: 25 | F14: /
A15: =E15 -> 26 | B15: 42644 | C15: Veianen | D15: Beckers Yannick | E15: 26 | F15: /
A16: =E16 -> 26 | B16: 42651 | C16: 4.Manche | D16: Beckers Yannick | E16: 26 | F16: /
A17: =E17 -> 28 | B17: 42540 | C17: Coupe de l´Entente | D17: Beckers Yannick | E17: 28 | F17: /
A18: =E18 -> 29 | B18: 42638 | C18: 3.Manche | D18: Beckers Yannick | E18: 29 | F18: /
A19: =E19 -> 31 | B19: 42597 | C19: 2.Manche | D19: Beckers Yannick | E19: 31 | F19: /
A20: =E20 -> 1 | B20: 42561 | C20: 1. Manche | D20: Metzger Fernand | E20: 1 | F20: 690
A21: =E21 -> 11 | B21: 42603 | C21: Coupe de la Sure | D21: Metzger Fernand | E21: 11 | F21: 240
A22: =E22 -> 13 | B22: 42547 | C22: Péiteschfeier | D22: Metzger Fernand | E22: 13 | F22: 0
A23: =E23 -> 17 | B23: 42610 | C23: Rodange | D23: Metzger Fernand | E23: 17 | F23: /
A24: =E24 -> 19 | B24: 42540 | C24: Coupe de l´Entente | D24: Metzger Fernand | E24: 19 | F24: 0
A25: =E25 -> 20 | B25: 42568 | C25: Stadtbredimus | D25: Metzger Fernand | E25: 20 | F25: /
A26: =E26 -> 20 | B26: 42589 | C26: Steinsel | D26: Metzger Fernand | E26: 20 | F26: /
A27: =E27 -> 20 | B27: 42596 | C27: Section Compétition | D27: Metzger Fernand | E27: 20 | F27: /
A28: =E28 -> 21 | B28: 42554 | C28: Bettembourg | D28: Metzger Fernand | E28: 21 | F28: /
A29: =E29 -> 21 | B29: 42582 | C29: Pétange | D29: Metzger Fernand | E29: 21 | F29: / | G29: =SUM(E20:E29) -> 163 | H29: =SUM(F20:F29) -> 930
A30: =E30 -> 22 | B30: 42597 | C30: 2.Manche | D30: Metzger Fernand | E30: 22 | F30: 0
A31: =E31 -> 24 | B31: 42575 | C31: Echternach | D31: Metzger Fernand | E31: 24 | F31: /
A32: =E32 -> 24 | B32: 42624 | C32: Ueschdref 2000 | D32: Metzger Fernand | E32: 24 | F32: /
A33: =E33 -> 24 | B33: 42631 | C33: Gilsdorf | D33: Metzger Fernand | E33: 24 | F33: /
A34: =E34 -> 26 | B34: 42644 | C34: Veianen | D34: Metzger Fernand | E34: 26 | F34: /
A35: =E35 -> 26 | B35: 42651 | C35: 4.Manche | D35: Metzger Fernand | E35: 26 | F35: /
A36: =E36 -> 28 | B36: 42617 | C36: Diekirch | D36: Metzger Fernand | E36: 28 | F36: /
A37: =E37 -> 29 | B37: 42638 | C37: 3.Manche | D37: Metzger Fernand | E37: 29 | F37: /
A38: =E38 -> 8 | B38: 42638 | C38: 3.Manche | D38: Boewer Nic | E38: 8 | F38: 20
A39: =E39 -> 10 | B39: 42597 | C39: 2.Manche | D39: Boewer Nic | E39: 10 | F39: 90
A40: =E40 -> 17 | B40: 42610 | C40: Rodange | D40: Boewer Nic | E40: 17 | F40: /
A41: =E41 -> 17 | B41: 42651 | C41: 4.Manche | D41: Boewer Nic | E41: 17 | F41: 0
A42: =E42 -> 19 | B42: 42617 | C42: Diekirch | D42: Boewer Nic | E42: 19 | F42: 0
A43: =E43 -> 20 | B43: 42561 | C43: 1. Manche | D43: Boewer Nic | E43: 20 | F43: 0
A44: =E44 -> 20 | B44: 42568 | C44: Stadtbredimus | D44: Boewer Nic | E44: 20 | F44: /
A45: =E45 -> 20 | B45: 42589 | C45: Steinsel | D45: Boewer Nic | E45: 20 | F45: /
A46: =E46 -> 20 | B46: 42596 | C46: Section Compétition | D46: Boewer Nic | E46: 20 | F46: /
A47: =E47 -> 21 | B47: 42554 | C47: Bettembourg | D47: Boewer Nic | E47: 21 | F47: / | G47: =SUM(E38:E47) -> 172 | H47: =SUM(F38:F47) -> 110
A48: =E48 -> 21 | B48: 42582 | C48: Pétange | D48: Boewer Nic | E48: 21 | F48: /
A49: =E49 -> 22 | B49: 42547 | C49: Péiteschfeier | D49: Boewer Nic | E49: 22 | F49: /
A50: =E50 -> 24 | B50: 42575 | C50: Echternach | D50: Boewer Nic | E50: 24 | F50: /
A51: =E51 -> 24 | B51: 42624 | C51: Ueschdref 2000 | D51: Boewer Nic | E51: 24 | F51: /
A52: =E52 -> 24 | B52: 42631 | C52: Gilsdorf | D52: Boewer Nic | E52: 24 | F52: /
A53: =E53 -> 25 | B53: 42603 | C53: Coupe de la Sure | D53: Boewer Nic | E53: 25 | F53: /
A54: =E54 -> 26 | B54: 42644 | C54: Veianen | D54: Boewer Nic | E54: 26 | F54: /
A55: =E55 -> 28 | B55: 42540 | C55: Coupe de l´Entente | D55: Boewer Nic | E55: 28 | F55: /
A56: =E56 -> 10 | B56: 42597 | C56: 2.Manche | D56: Braun Myriam | E56: 10 | F56: 90
A57: =E57 -> 17 | B57: 42610 | C57: Rodange | D57: Braun Myriam | E57: 17 | F57: /
A58: =E58 -> 17 | B58: 42651 | C58: 4.Manche | D58: Braun Myriam | E58: 17 | F58: 0
A59: =E59 -> 20 | B59: 42561 | C59: 1. Manche | D59: Braun Myriam | E59: 20 | F59: 0
A60: =E60 -> 20 | B60: 42568 | C60: Stadtbredimus | D60: Braun Myriam | E60: 20 | F60: /
A61: =E61 -> 20 | B61: 42589 | C61: Steinsel | D61: Braun Myriam | E61: 20 | F61: /
A62: =E62 -> 20 | B62: 42596 | C62: Section Compétition | D62: Braun Myriam | E62: 20 | F62: /
A63: =E63 -> 21 | B63: 42554 | C63: Bettembourg | D63: Braun Myriam | E63: 21 | F63: /
A64: =E64 -> 21 | B64: 42582 | C64: Pétange | D64: Braun Myriam | E64: 21 | F64: /
A65: =E65 -> 22 | B65: 42547 | C65: Péiteschfeier | D65: Braun Myriam | E65: 22 | F65: / | G65: =SUM(E56:E65) -> 188 | H65: =SUM(F56:F65) -> 90
A66: =E66 -> 24 | B66: 42575 | C66: Echternach | D66: Braun Myriam | E66: 24 | F66: /
A67: =E67 -> 24 | B67: 42624 | C67: Ueschdref 2000 | D67: Braun Myriam | E67: 24 | F67: /
A68: =E68 -> 24 | B68: 42631 | C68: Gilsdorf | D68: Braun Myriam | E68: 24 | F68: /
A69: =E69 -> 25 | B69: 42603 | C69: Coupe de la Sure | D69: Braun Myriam | E69: 25 | F69: /
A70: =E70 -> 26 | B70: 42644 | C70: Veianen | D70: Braun Myriam | E70: 26 | F70: /
A71: =E71 -> 28 | B71: 42540 | C71: Coupe de l´Entente | D71: Braun Myriam | E71: 28 | F71: /
A72: =E72 -> 28 | B72: 42617 | C72: Diekirch | D72: Braun Myriam | E72: 28 | F72: /
A73: =E73 -> 29 | B73: 42638 | C73: 3.Manche | D73: Braun Myriam | E73: 29 | F73: /
A74: =E74 -> 17 | B74: 42610 | C74: Rodange | D74: Braun Mike | E74: 17 | F74: /
A75: =E75 -> 20 | B75: 42568 | C75: Stadtbredimus | D75: Braun Mike | E75: 20 | F75: /
A76: =E76 -> 20 | B76: 42589 | C76: Steinsel | D76: Braun Mike | E76: 20 | F76: /
A77: =E77 -> 20 | B77: 42596 | C77: Section Compétition | D77: Braun Mike | E77: 20 | F77: /
... A80: =E80 -> 22 | B80: 42547 | C80: Péiteschfeier | D80: Braun Mike | E80: 22 | F80: /
A81: =E81 -> 22 | B81: 42597 | C81: 2.Manche | D81: Braun Mike | E81: 22 | F81: 0
A82: =E82 -> 24 | B82: 42575 | C82: Echternach | D82: Braun Mike | E82: 24 | F82: /
A83: =E83 -> 24 | B83: 42624 | C83: Ueschdref 2000 | D83: Braun Mike | E83: 24 | F83: / | G83: =SUM(E74:E83) -> 211 | H83: =SUM(F74:F83) -> 0
A84: =E84 -> 24 | B84: 42631 | C84: Gilsdorf | D84: Braun Mike | E84: 24 | F84: /
A85: =E85 -> 25 | B85: 42603 | C85: Coupe de la Sure | D85: Braun Mike | E85: 25 | F85: /
A86: =E86 -> 26 | B86: 42644 | C86: Veianen | D86: Braun Mike | E86: 26 | F86: /
A87: =E87 -> 26 | B87: 42651 | C87: 4.Manche | D87: Braun Mike | E87: 26 | F87: /
A88: =E88 -> 28 | B88: 42540 | C88: Coupe de l´Entente | D88: Braun Mike | E88: 28 | F88: /
A89: =E89 -> 28 | B89: 42617 | C89: Diekirch | D89: Braun Mike | E89: 28 | F89: /
A90: =E90 -> 29 | B90: 42561 | C90: 1. Manche | D90: Braun Mike | E90: 29 | F90: /
A91: =E91 -> 29 | B91: 42638 | C91: 3.Manche | D91: Braun Mike | E91: 29 | F91: /
A92: =E92 -> 1 | B92: 42554 | C92: Bettembourg | D92: Geiben Carlo | E92: 1 | F92: 4490
A93: =E93 -> 1 | B93: 42596 | C93: Section Compétition | D93: Geiben Carlo | E93: 1 | F93: 5230
A94: =E94 -> 2 | B94: 42610 | C94: Rodange | D94: Geiben Carlo | E94: 2 | F94: 1880
A95: =E95 -> 3 | B95: 42568 | C95: Stadtbredimus | D95: Geiben Carlo | E95: 3 | F95: 2890
A96: =E96 -> 4 | B96: 42582 | C96: Pétange | D96: Geiben Carlo | E96: 4 | F96: 2570
A97: =E97 -> 4 | B97: 42589 | C97: Steinsel | D97: Geiben Carlo | E97: 4 | F97: 2470
A98: =E98 -> 4 | B98: 42651 | C98: 4.Manche | D98: Geiben Carlo | E98: 4 | F98: 40
A99: =E99 -> 5 | B99: 42617 | C99: Diekirch | D99: Geiben Carlo | E99: 5 | F99: 740
A100: =E100 -> 5 | B100: 42644 | C100: Veianen | D100: Geiben Carlo | E100: 5 | F100: 690
A101: =E101 -> 6 | B101: 42597 | C101: 2.Manche | D101: Geiben Carlo | E101: 6 | F101: 600 | G101: =SUM(E92:E101) -> 35 | H101: =SUM(F92:F101) -> 21600
A102: =E102 -> 8 | B102: 42547 | C102: Péiteschfeier | D102: Geiben Carlo | E102: 8 | F102: 1660
...

Sheet Alzette
A1: Datum | B1: Organisator | C1: Name | D1: Gewicht | E1: Total
A2: 42561 | B2: 1. Manche | C2: Beckers Yannick | D2: 0
A3: 42597 | B3: 2. Manche | C3: Beckers Yannick | D3: /
A4: 42638 | B4: 3. Manche | C4: Beckers Yannick | D4: /
A5: 42651 | B5: 4. Manche | C5: Beckers Yannick | D5: / | E5: =SUM(D2:D5) -> 0
A6: 42561 | B6: 1. Manche | C6: Metzger Fernand | D6: 690
A7: 42597 | B7: 2. Manche | C7: Metzger Fernand | D7: 0
A8: 42638 | B8: 3. Manche | C8: Metzger Fernand | D8: /
A9: 42651 | B9: 4. Manche | C9: Metzger Fernand | D9: / | E9: =SUM(D6:D9) -> 690
A10: 42561 | B10: 1. Manche | C10: Boewer Nic | D10: 0
A11: 42597 | B11: 2. Manche | C11: Boewer Nic | D11: 90
A12: 42638 | B12: 3. Manche | C12: Boewer Nic | D12: 20
A13: 42651 | B13: 4. Manche | C13: Boewer Nic | D13: 0 | E13: =SUM(D10:D13) -> 110
A14: 42561 | B14: 1. Manche | C14: Braun Myriam | D14: 0
A15: 42597 | B15: 2. Manche | C15: Braun Myriam | D15: 90
A16: 42638 | B16: 3. Manche | C16: Braun Myriam | D16: /
A17: 42651 | B17: 4. Manche | C17: Braun Myriam | D17: 0 | E17: =SUM(D14:D17) -> 90
A18: 42561 | B18: 1. Manche | C18: Braun Mike | D18: /
A19: 42597 | B19: 2. Manche | C19: Braun Mike | D19: 0
A20: 42638 | B20: 3. Manche | C20: Braun Mike | D20: /
A21: 42651 | B21: 4. Manche | C21: Braun Mike | D21: / | E21: =SUM(D18:D21) -> 0
A22: 42561 | B22: 1. Manche | C22: Geiben Carlo | D22: 0
A23: 42597 | B23: 2. Manche | C23: Geiben Carlo | D23: 600
A24: 42638 | B24: 3. Manche | C24: Geiben Carlo | D24: 0
A25: 42651 | B25: 4. Manche | C25: Geiben Carlo | D25: 40 | E25: =SUM(D22:D25) -> 640
A26: 42561 | B26: 1. Manche | C26: Gonring Jang | D26: 580
A27: 42597 | B27: 2. Manche | C27: Gonring Jang | D27: 0
A28: 42638 | B28: 3. Manche | C28: Gonring Jang | D28: 30
A29: 42651 | B29: 4. Manche | C29: Gonring Jang | D29: 0 | E29: =SUM(D26:D29) -> 610
A30: 42561 | B30: 1. Manche | C30: Hahn Francis | D30: 0
A31: 42597 | B31: 2. Manche | C31: Hahn Francis | D31: /
A32: 42638 | B32: 3. Manche | C32: Hahn Francis | D32: /
A33: 42651 | B33: 4. Manche | C33: Hahn Francis | D33: / | E33: =SUM(D30:D33) -> 0
A34: 42561 | B34: 1. Manche | C34: Hanff Francois | D34: 0
A35: 42597 | B35: 2. Manche | C35: Hanff Francois | D35: 0
A36: 42638 | B36: 3. Manche | C36: Hanff Francois | D36: /
A37: 42651 | B37: 4. Manche | C37: Hanff Francois | D37: / | E37: =SUM(D34:D37) -> 0
A38: 42561 | B38: 1. Manche | C38: Hari Pol | D38: 0
A39: 42597 | B39: 2. Manche | C39: Hari Pol | D39: 180
A40: 42638 | B40: 3. Manche | C40: Hari Pol | D40: 0
A41: 42651 | B41: 4. Manche | C41: Hari Pol | D41: 0 | E41: =SUM(D38:D41) -> 180
A42: 42561 | B42: 1. Manche | C42: Hauppert Paul | D42: /
A43: 42597 | B43: 2. Manche | C43: Hauppert Paul | D43: /
A44: 42638 | B44: 3. Manche | C44: Hauppert Paul | D44: /
A45: 42651 | B45: 4. Manche | C45: Hauppert Paul | D45: / | E45: =SUM(D42:D45) -> 0
A46: 42561 | B46: 1. Manche | C46: Heirens Albert | D46: 180
A47: 42597 | B47: 2. Manche | C47: Heirens Albert | D47: 0
A48: 42638 | B48: 3. Manche | C48: Heirens Albert | D48: 0
A49: 42651 | B49: 4. Manche | C49: Heirens Albert | D49: / | E49: =SUM(D46:D49) -> 180
A50: 42561 | B50: 1. Manche | C50: Huberty Nico | D50: 0
A51: 42597 | B51: 2. Manche | C51: Huberty Nico | D51: 0
A52: 42638 | B52: 3. Manche | C52: Huberty Nico | D52: 0
A53: 42651 | B53: 4. Manche | C53: Huberty Nico | D53: 0 | E53: =SUM(D50:D53) -> 0
A54: 42561 | B54: 1. Manche | C54: Huberty Mike | D54: 0
A55: 42597 | B55: 2. Manche | C55: Huberty Mike | D55: 1200
A56: 42638 | B56: 3. Manche | C56: Huberty Mike | D56: 80
A57: 42651 | B57: 4. Manche | C57: Huberty Mike | D57: 260 | E57: =SUM(D54:D57) -> 1540
A58: 42561 | B58: 1. Manche | C58: Huberty Steve | D58: /
A59: 42597 | B59: 2. Manche | C59: Huberty Steve | D59: 740
A60: 42638 | B60: 3. Manche | C60: Huberty Steve | D60: 0
A61: 42651 | B61: 4. Manche | C61: Huberty Steve | D61: / | E61: =SUM(D58:D61) -> 740
A62: 42561 | B62: 1. Manche | C62: Jaeger J-M | D62: 0
A63: 42597 | B63: 2. Manche | C63: Jaeger J-M | D63: 0
A64: 42638 | B64: 3. Manche | C64: Jaeger J-M | D64: 0
A65: 42651 | B65: 4. Manche | C65: Jaeger J-M | D65: / | E65: =SUM(D62:D65) -> 0
A66: 42561 | B66: 1. Manche | C66: Kaiser Guy | D66: /
A67: 42597 | B67: 2. Manche | C67: Kaiser Guy | D67: /
A68: 42638 | B68: 3. Manche | C68: Kaiser Guy | D68: /
A69: 42651 | B69: 4. Manche | C69: Kaiser Guy | D69: / | E69: =SUM(D66:D69) -> 0
A70: 42561 | B70: 1. Manche | C70: Kartheiser Gilles | D70: /
A71: 42597 | B71: 2. Manche | C71: Kartheiser Gilles | D71: 90
A72: 42638 | B72: 3. Manche | C72: Kartheiser Gilles | D72: 80
A73: 42651 | B73: 4. Manche | C73: Kartheiser Gilles | D73: 920 | E73: =SUM(D70:D73) -> 1090
A74: 42561 | B74: 1. Manche | C74: Koetz Marc | D74: 0
A75: 42597 | B75: 2. Manche | C75: Koetz Marc | D75: /
A76: 42638 | B76: 3. Manche | C76: Koetz Marc | D76: /
A77: 42651 | B77: 4. Manche | C77: Koetz Marc | D77: 0 | E77: =SUM(D74:D77) -> 0
A78: 42561 | B78: 1. Manche | C78: Lagogny Tom | D78: /
A79: 42597 | B79: 2. Manche | C79: Lagogny Tom | D79: /
A80: 42638 | B80: 3. Manche | C80: Lagogny Tom | D80: /
A81: 42651 | B81: 4. Manche | C81: Lagogny Tom | D81: / | E81: =SUM(D78:D81) -> 0
A82: 42561 | B82: 1. Manche | C82: Lallemeng Leon | D82: 0
A83: 42597 | B83: 2. Manche | C83: Lallemeng Leon | D83: 110
A84: 42638 | B84: 3. Manche | C84: Lallemeng Leon | D84: 170
A85: 42651 | B85: 4. Manche | C85: Lallemeng Leon | D85: 50 | E85: =SUM(D82:D85) -> 330
A86: 42561 | B86: 1. Manche | C86: Mudeler Johny | D86: 90
A87: 42597 | B87: 2. Manche | C87: Mudeler Johny | D87: 2290
A88: 42638 | B88: 3. Manche | C88: Mudeler Johny | D88: 0
A89: 42651 | B89: 4. Manche | C89: Mudeler Johny | E89: =SUM(D86:D89) -> 2380
A90: 42561 | B90: 1. Manche | C90: Prim Jean | D90: /
A91: 42597 | B91: 2. Manche | C91: Prim Jean | D91: /
A92: 42638 | B92: 3. Manche | C92: Prim Jean | D92: 0
A93: 42651 | B93: 4. Manche | C93: Prim Jean | D93: 0 | E93: =SUM(D90:D93) -> 0
A94: 42561 | B94: 1. Manche | C94: Reding Serge | D94: /
A95: 42597 | B95: 2. Manche | C95: Reding Serge | D95: 8510
A96: 42638 | B96: 3. Manche | C96: Reding Serge | D96: 1260
A97: 42651 | B97: 4. Manche | C97: Reding Serge | D97: / | E97: =SUM(D94:D97) -> 9770
A98: 42561 | B98: 1. Manche | C98: Royer René | D98: /
A99: 42597 | B99: 2. Manche | C99: Royer René | D99: 190
A100: 42638 | B100: 3. Manche | C100: Royer René | D100: 2530
...

Sheet Tabelle Fränz
A1: Name | B1: Kat. | D1: Coupe de l´Entente | E1: Péiteschfeier | F1: Bettembourg | G1: Manche 1 | H1: Stadtbredimus | I1: Albes Echternach | J1: Petange | K1: Steinsel | L1: Sec. de compétition | M1: Manche 2 | N1: Coupe de la Sure | O1: Rodange 2000 | P1: Diekrich | Q1: Ueschdref 2000 | R1: Gilsdorf | S1: Manche 3 | T1: Veianen | U1: Manche 4 | W1: Name | X1: Kat. | Z1: Coupe de l´Entente | AA1: Péiteschfeier | AB1: Bettembourg | AC1: Manche 1 | AD1: Stadtbredimus | AE1: Albes Echternach | AF1: Petange | AG1: Steinsel | AH1: Sec. de compétition | AI1: Manche 2 | AJ1: Coupe de la Sure | AK1: Rodange 2000 | AL1: Diekrich | AM1: Ueschdref 2000 | AN1: Gilsdorf | AO1: Manche 3 | AP1: Veianen | AQ1: Manche 4 | AR1: PUNKTE der 10 besten Preisfischen Total: | AS1: Gewicht der 10 besten Preisfischen Total:
A2: Gonring Jang | B2: Vet | C2: Punkte | D2: 1 | E2: 1 | F2: 5 | G2: 2 | H2: 1 | I2: 15 | J2: 1 | K2: 10 | L2: 9 | M2: 22 | N2: 16 | O2: 6 | P2: 1 | Q2: 5 | R2: 15 | S2: 7 | T2: 3 | U2: 17 | W2: Gonring Jang | X2: Vet | Y2: Punkte | Z2: =SUM(D2) -> 1 | AA2: =SUM(E2) -> 1 | AB2: =SUM(F2) -> 5 | AC2: =SUM(G2) -> 2 | AD2: =SUM(H2) -> 1 | AF2: =SUM(J2) -> 1 | AK2: =SUM(O2) -> 6 | AL2: =SUM(P2) -> 1 | AM2: =SUM(Q2) -> 5 | AP2: =SUM(T2) -> 3 | AR2: =SUM(Z2:AQ2) -> 26 | AS2: =SUM(Z3:AQ3) -> 59690
C3: Gewicht | D3: 5220 | E3: 10090 | F3: 3020 | G3: 580 | H3: 13740 | I3: 0 | J3: 16190 | K3: 640 | L3: 1350 | M3: 0 | N3: 0 | O3: 750 | P3: 7080 | Q3: 40 | R3: 0 | S3: 30 | T3: 2980 | U3: 0 | Y3: Gewicht | Z3: =SUM(D3) -> 5220 | AA3: =SUM(E3) -> 10090 | AB3: =SUM(F3) -> 3020 | AC3: =SUM(G3) -> 580 | AD3: =SUM(H3) -> 13740 | AF3: =SUM(J3) -> 16190 | AK3: =SUM(O3) -> 750 | AL3: =SUM(P3) -> 7080 | AM3: =SUM(Q3) -> 40 | AP3: =SUM(T3) -> 2980
A4: Lallemang Leon | B4: Sen | C4: Punkte | D4: 19 | E4: 3 | F4: 6 | G4: 20 | H4: 2 | I4: 15 | J4: 5 | K4: 2 | L4: 2 | M4: 9 | N4: 8 | O4: 4 | P4: 19 | Q4: 3 | R4: 24 | S4: 3 | T4: 16 | U4: 3 | W4: Lallemang Leon | X4: Sen | Y4: Punkte | AA4: =SUM(E4) -> 3 | AB4: =SUM(F4) -> 6 | AD4: =SUM(H4) -> 2 | AF4: =SUM(J4) -> 5 | AG4: =SUM(K4) -> 2 | AH4: =SUM(L4) -> 2 | AK4: =SUM(O4) -> 4 | AM4: =SUM(Q4) -> 3 | AO4: =SUM(S4) -> 3 | AQ4: =SUM(U4) -> 3 | AR4: =SUM(Z4:AQ4) -> 33 | AS4: =SUM(Z5:AQ5) -> 21390
C5: Gewicht | D5: 0 | E5: 4320 | F5: 2940 | G5: 0 | H5: 3410 | I5: 0 | J5: 2240 | K5: 2830 | L5: 3870 | M5: 110 | N5: 800 | O5: 1360 | P5: 0 | Q5: 200 | R5: 0 | S5: 170 | T5: 160 | U5: 50 | Y5: Gewicht | AA5: =SUM(E5) -> 4320 | AB5: =SUM(F5) -> 2940 | AD5: =SUM(H5) -> 3410 | AF5: =SUM(J5) -> 2240 | AG5: =SUM(K5) -> 2830 | AH5: =SUM(L5) -> 3870 | AK5: =SUM(O5) -> 1360 | AM5: =SUM(Q5) -> 200 | AO5: =SUM(S5) -> 170 | AQ5: =SUM(U5) -> 50
A6: Mudeler Johny | B6: Sen | C6: Punkte | D6: 4 | E6: 2 | F6: 2 | G6: 6 | H6: 20 | I6: 2 | J6: 10 | K6: 20 | L6: 4 | M6: 2 | N6: 10 | O6: 7 | P6: 19 | Q6: 4 | R6: 15 | S6: 20 | T6: 1 | U6: 17 | W6: Mudeler Johny | X6: Sen | Y6: Punkte | Z6: =SUM(D6) -> 4 | AA6: =SUM(E6) -> 2 | AB6: =SUM(F6) -> 2 | AC6: =SUM(G6) -> 6 | AE6: =SUM(I6) -> 2 | AH6: =SUM(L6) -> 4 | AI6: =SUM(M6) -> 2 | AK6: =SUM(O6) -> 7 | AM6: =SUM(Q6) -> 4 | AP6: =SUM(T6) -> 1 | AR6: =SUM(Z6:AQ6) -> 34 | AS6: =SUM(Z7:AQ7) -> 25710
C7: Gewicht | D7: 980 | E7: 4840 | F7: 4250 | G7: 90 | H7: 0 | I7: 1420 | J7: 730 | K7: 0 | L7: 3430 | M7: 2290 | N7: 260 | O7: 480 | P7: 0 | Q7: 60 | R7: 0 | S7: 0 | T7: 7870 | U7: 0 | Y7: Gewicht | Z7: =SUM(D7) -> 980 | AA7: =SUM(E7) -> 4840 | AB7: =SUM(F7) -> 4250 | AC7: =SUM(G7) -> 90 | AE7: =SUM(I7) -> 1420 | AH7: =SUM(L7) -> 3430 | AI7: =SUM(M7) -> 2290 | AK7: =SUM(O7) -> 480 | AM7: =SUM(Q7) -> 60 | AP7: =SUM(T7) -> 7870
A8: Huberty Mike | B8: Sen | C8: Punkte | D8: 19 | E8: 5 | F8: 11 | G8: 20 | H8: 10 | I8: 1 | J8: 9 | K8: 9 | L8: 10 | M8: 3 | N8: 2 | O8: 17 | P8: 2 | Q8: 15 | R8: 3 | S8: 5 | T8: 2 | U8: 2 | W8: Huberty Mike | X8: Sen | Y8: Punkte | AA8: =SUM(E8) -> 5 | AE8: =SUM(I8) -> 1 | AF8: =SUM(J8) -> 9 | AI8: =SUM(M8) -> 3 | AJ8: =SUM(N8) -> 2 | AL8: =SUM(P8) -> 2 | AN8: =SUM(R8) -> 3 | AO8: =SUM(S8) -> 5 | AP8: =SUM(T8) -> 2 | AQ8: =SUM(U8) -> 2 | AR8: =SUM(Z8:AQ8) -> 34 | AS8: =SUM(Z9:AQ9) -> 15380
C9: Gewicht | D9: 0 | E9: 2900 | F9: 240 | G9: 0 | H9: 1040 | I9: 1980 | J9: 750 | K9: 950 | L9: 510 | M9: 1200 | N9: 3680 | O9: 0 | P9: 1250 | Q9: 0 | R9: 110 | S9: 80 | T9: 3170 | U9: 260 | Y9: Gewicht | AA9: =SUM(E9) -> 2900 | AE9: =SUM(I9) -> 1980 | AF9: =SUM(J9) -> 750 | AI9: =SUM(M9) -> 1200 | AJ9: =SUM(N9) -> 3680 | AL9: =SUM(P9) -> 1250 | AN9: =SUM(R9) -> 110 | AO9: =SUM(S9) -> 80 | AP9: =SUM(T9) -> 3170 | AQ9: =SUM(U9) -> 260
A10: Geiben Carlo | B10: Vet | C10: Punkte | D10: 19 | E10: 8 | F10: 1 | G10: 20 | H10: 3 | I10: 15 | J10: 4 | K10: 4 | L10: 1 | M10: 6 | N10: 16 | O10: 2 | P10: 5 | Q10: 15 | R10: 15 | S10: 20 | T10: 5 | U10: 4 | W10: Geiben Carlo | X10: Vet | Y10: Punkte | AB10: =SUM(F10) -> 1 | AD10: =SUM(H10) -> 3 | AF10: =SUM(J10) -> 4 | AG10: =SUM(K10) -> 4 | AH10: =SUM(L10) -> 1 | AI10: =SUM(M10) -> 6 | AK10: =SUM(O10) -> 2 | AL10: =SUM(P10) -> 5 | AP10: =SUM(T10) -> 5 | AQ10: =SUM(U10) -> 4 | AR10: =SUM(Z10:AQ10) -> 35 | AS10: =SUM(Z11:AQ11) -> 21600
C11: Gewicht | D11: 0 | E11: 1660 | F11: 4490 | G11: 0 | H11: 2890 | I11: 0 | J11: 2570 | K11: 2470 | L11: 5230 | M11: 600 | N11: 0 | O11: 1880 | P11: 740 | Q11: 0 | R11: 0 | S11: 0 | T11: 690 | U11: 40 | Y11: Gewicht | AB11: =SUM(F11) -> 4490 | AD11: =SUM(H11) -> 2890 | AF11: =SUM(J11) -> 2570 | AG11: =SUM(K11) -> 2470 | AH11: =SUM(L11) -> 5230 | AI11: =SUM(M11) -> 600 | AK11: =SUM(O11) -> 1880 | AL11: =SUM(P11) -> 740 | AP11: =SUM(T11) -> 690 | AQ11: =SUM(U11) -> 40
A12: Reding Serge | B12: Sen | C12: Punkte | D12: 5 | E12: 4 | F12: 4 | G12: 29 | H12: 7 | I12: 15 | J12: 2 | K12: 3 | L12: 20 | M12: 1 | N12: 7 | O12: 1 | P12: 19 | Q12: 24 | R12: 15 | S12: 2 | T12: 10 | U12: 26 | W12: Reding Serge | X12: Sen | Y12: Punkte | Z12: =SUM(D12) -> 5 | AA12: =SUM(E12) -> 4 | AB12: =SUM(F12) -> 4 | AD12: =SUM(H12) -> 7 | AF12: =SUM(J12) -> 2 | AG12: =SUM(K12) -> 3 | AI12: =SUM(M12) -> 1 | AJ12: =SUM(N12) -> 7 | AK12: =SUM(O12) -> 1 | AO12: =SUM(S12) -> 2 | AR12: =SUM(Z12:AQ12) -> 36 | AS12: =SUM(Z13:AQ13) -> 28290
C13: Gewicht | D13: 730 | E13: 2990 | F13: 3160 | G13: 0 | H13: 1730 | I13: 0 | J13: 3240 | K13: 2640 | L13: 0 | M13: 8510 | N13: 1000 | O13: 3030 | P13: 0 | Q13: 0 | R13: 0 | S13: 1260 | T13: 330 | U13: 0 | Y13: Gewicht | Z13: =SUM(D13) -> 730 | AA13: =SUM(E13) -> 2990 | AB13: =SUM(F13) -> 3160 | AD13: =SUM(H13) -> 1730 | AF13: =SUM(J13) -> 3240 | AG13: =SUM(K13) -> 2640 | AI13: =SUM(M13) -> 8510 | AJ13: =SUM(N13) -> 1000 | AK13: =SUM(O13) -> 3030 | AO13: =SUM(S13) -> 1260
A14: Kartheiser Gilles | B14: Sen | C14: Punkte | D14: 19 | E14: 6 | F14: 9 | G14: 29 | H14: 8 | I14: 24 | J14: 21 | K14: 6 | L14: 7 | M14: 10 | N14: 3 | O14: 3 | P14: 3 | Q14: 24 | R14: 1 | S14: 5 | T14: 13 | U14: 1 | W14: Kartheiser Gilles | X14: Sen | Y14: Punkte | AA14: =SUM(E14) -> 6 | AD14: =SUM(H14) -> 8 | AG14: =SUM(K14) -> 6 | AH14: =SUM(L14) -> 7 | AJ14: =SUM(N14) -> 3 | AK14: =SUM(O14) -> 3 | AL14: =SUM(P14) -> 3 | AN14: =SUM(R14) -> 1 | AO14: =SUM(S14) -> 5 | AQ14: =SUM(U14) -> 1 | AR14: =SUM(Z14:AQ14) -> 43 | AS14: =SUM(Z15:AQ15) -> 14900
C15: Gewicht | D15: 0 | E15: 2560 | F15: 1080 | G15: 0 | H15: 1310 | I15: 0 | J15: 0 | K15: 2280 | L15: 2060 | M15: 90 | N15: 2840 | O15: 1570 | P15: 790 | Q15: 0 | R15: 490 | S15: 80 | T15: 240 | U15: 920 | Y15: Gewicht | AA15: =SUM(E15) -> 2560 | AD15: =SUM(H15) -> 1310 | AG15: =SUM(K15) -> 2280 | AH15: =SUM(L15) -> 2060 | AJ15: =SUM(N15) -> 2840 | AK15: =SUM(O15) -> 1570 | AL15: =SUM(P15) -> 790 | AN15: =SUM(R15) -> 490 | AO15: =SUM(S15) -> 80 | AQ15: =SUM(U15) -> 920
A16: Heirens Albert | B16: Vet | C16: Punkte | D16: 7 | E16: 7 | F16: 7 | G16: 3 | H16: 5 | I16: 15 | J16: 7 | K16: 20 | L16: 3 | M16: 22 | N16: 4 | O16: 5 | P16: 19 | Q16: 7 | R16: 15 | S16: 20 | T16: 14 | U16: 26 | W16: Heirens Albert | X16: Vet | Y16: Punkte | Z16: =SUM(D16) -> 7 | AA16: =SUM(E16) -> 7 | AB16: =SUM(F16) -> 7 | AC16: =SUM(G16) -> 3 | AD16: =SUM(H16) -> 5 | AF16: =SUM(J16) -> 7 | AH16: =SUM(L16) -> 3 | AJ16: =SUM(N16) -> 4 | AK16: =SUM(O16) -> 5 | AM16: =SUM(Q16) -> 7 | AR16: =SUM(Z16:AQ16) -> 55 | AS16: =SUM(Z17:AQ17) -> 15560
C17: Gewicht | D17: 280 | E17: 2010 | F17: 2660 | G17: 180 | H17: 1940 | I17: 0 | J17: 1690 | K17: 0 | L17: 3520 | M17: 0 | N17: 2040 | O17: 1230 | P17: 0 | Q17: 10 | R17: 0 | S17: 0 | T17: 190 | U17: 0 | Y17: Gewicht | Z17: =SUM(D17) -> 280 | AA17: =SUM(E17) -> 2010 | AB17: =SUM(F17) -> 2660 | AC17: =SUM(G17) -> 180 | AD17: =SUM(H17) -> 1940 | AF17: =SUM(J17) -> 1690 | AH17: =SUM(L17) -> 3520 | AJ17: =SUM(N17) -> 2040 | AK17: =SUM(O17) -> 1230 | AM17: =SUM(Q17) -> 10
A18: Hahn Francis | B18: Sen | C18: Punkte | D18: 8 | E18: 10 | F18: 8 | G18: 20 | H18: 9 | I18: 15 | J18: 3 | K18: 1 | L18: 8 | M18: 31 | N18: 12 | O18: 17 | P18: 4 | Q18: 15 | R18: 24 | S18: 29 | T18: 8 | U18: 26 | W18: Hahn Francis | X18: Sen | Y18: Punkte | Z18: =SUM(D18) -> 8 | AA18: =SUM(E18) -> 10 | AB18: =SUM(F18) -> 8 | AD18: =SUM(H18) -> 9 | AF18: =SUM(J18) -> 3 | AG18: =SUM(K18) -> 1 | AH18: =SUM(L18) -> 8 | AJ18: =SUM(N18) -> 12 | AL18: =SUM(P18) -> 4 | AP18: =SUM(T18) -> 8 | AR18: =SUM(Z18:AQ18) -> 71 | AS18: =SUM(Z19:AQ19) -> 11820
C19: Gewicht | D19: 120 | E19: 180 | F19: 1710 | G19: 0 | H19: 1180 | I19: 0 | J19: 2880 | K19: 2920 | L19: 1540 | M19: 0 | N19: 60 | O19: 0 | P19: 780 | Q19: 0 | R19: 0 | S19: 0 | T19: 450 | U19: 0 | Y19: Gewicht | Z19: =SUM(D19) -> 120 | AA19: =SUM(E19) -> 180 | AB19: =SUM(F19) -> 1710 | AD19: =SUM(H19) -> 1180 | AF19: =SUM(J19) -> 2880 | AG19: =SUM(K19) -> 2920 | AH19: =SUM(L19) -> 1540 | AJ19: =SUM(N19) -> 60 | AL19: =SUM(P19) -> 780 | AP19: =SUM(T19) -> 450
A20: Huberty Nico | B20: Vet | C20: Punkte | D20: 19 | E20: 22 | F20: 21 | G20: 20 | H20: 5 | I20: 15 | J20: 6 | K20: 8 | L20: 5 | M20: 22 | N20: 12 | O20: 17 | P20: 28 | Q20: 6 | R20: 2 | S20: 20 | T20: 10 | U20: 17 | W20: Huberty Nico | X20: Vet | Y20: Punkte | AD20: =SUM(H20) -> 5 | AE20: =SUM(I20) -> 15 | AF20: =SUM(J20) -> 6 | AG20: =SUM(K20) -> 8 | AH20: =SUM(L20) -> 5 | AJ20: =SUM(N20) -> 12 | AK20: =SUM(O20) -> 17 | AM20: =SUM(Q20) -> 6 | AN20: =SUM(R20) -> 2 | AP20: =SUM(T20) -> 10 | AR20: =SUM(Z20:AQ20) -> 86 | AS20: =SUM(Z21:AQ21) -> 8540
C21: Gewicht | D21: 0 | E21: 0 | F21: 0 | G21: 0 | H21: 1940 | I21: 0 | J21: 1820 | K21: 1250 | L21: 2840 | M21: 0 | N21: 60 | O21: 0 | P21: 0 | Q21: 20 | R21: 280 | S21: 0 | T21: 330 | U21: 0 | Y21: Gewicht | AD21: =SUM(H21) -> 1940 | AE21: =SUM(I21) -> 0 | AF21: =SUM(J21) -> 1820 | AG21: =SUM(K21) -> 1250 | AH21: =SUM(L21) -> 2840 | AJ21: =SUM(N21) -> 60 | AK21: =SUM(O21) -> 0 | AM21: =SUM(Q21) -> 20 | AN21: =SUM(R21) -> 280 | AP21: =SUM(T21) -> 330
A22: Schmitz Ben | B22: U23 | C22: Punkte | D22: 6 | E22: 22 | F22: 21 | G22: 4 | H22: 20 | I22: 24 | J22: 21 | K22: 5 | L22: 20 | M22: 31 | N22: 6 | O22: 17 | P22: 11 | Q22: 1 | R22: 15 | S22: 29 | T22: 6 | U22: 26 | W22: Schmitz Ben | X22: U23 | Y22: Punkte | Z22: =SUM(D22) -> 6 | AC22: =SUM(G22) -> 4 | AD22: =SUM(H22) -> 20 | AG22: =SUM(K22) -> 5 | AJ22: =SUM(N22) -> 6 | AK22: =SUM(O22) -> 17 | AL22: =SUM(P22) -> 11 | AM22: =SUM(Q22) -> 1 | AN22: =SUM(R22) -> 15 | AP22: =SUM(T22) -> 6 | AR22: =SUM(Z22:AQ22) -> 91 | AS22: =SUM(Z23:AQ23) -> 6040
C23: Gewicht | D23: 380 | E23: 0 | F23: 0 | G23: 150 | H23: 0 | I23: 0 | J23: 0 | K23: 2350 | L23: 0 | M23: 0 | N23: 1520 | O23: 0 | P23: 260 | Q23: 840 | R23: 0 | S23: 0 | T23: 540 | U23: 0 | Y23: Gewicht | Z23: =SUM(D23) -> 380 | AC23: =SUM(G23) -> 150 | AD23: =SUM(H23) -> 0 | AG23: =SUM(K23) -> 2350 | AJ23: =SUM(N23) -> 1520 | AK23: =SUM(O23) -> 0 | AL23: =SUM(P23) -> 260 | AM23: =SUM(Q23) -> 840 | AN23: =SUM(R23) -> 0 | AP23: =SUM(T23) -> 540
A24: Weirich Serge | B24: Sen | C24: Punkte | D24: 3 | E24: 22 | F24: 21 | G24: 5 | H24: 20 | I24: 15 | J24: 21 | K24: 20 | L24: 20 | M24: 5 | N24: 5 | O24: 17 | P24: 7 | Q24: 24 | R24: 15 | S24: 20 | T24: 26 | U24: 17 | W24: Weirich Serge | X24: Sen | Y24: Punkte | Z24: =SUM(D24) -> 3 | AC24: =SUM(G24) -> 5 | AE24: =SUM(I24) -> 15 | AG24: =SUM(K24) -> 20 | AI24: =SUM(M24) -> 5 | AJ24: =SUM(N24) -> 5 | AK24: =SUM(O24) -> 17 | AL24: =SUM(P24) -> 7 | AN24: =SUM(R24) -> 15 | AQ24: =SUM(U24) -> 17 | AR24: =SUM(Z24:AQ24) -> 109 | AS24: =SUM(Z25:AQ25) -> 3820
C25: Gewicht | D25: 1080 | E25: 0 | F25: 0 | G25: 140 | H25: 0 | I25: 0 | J25: 0 | K25: 0 | L25: 0 | M25: 640 | N25: 1620 | O25: 0 | P25: 340 | Q25: 0 | R25: 0 | S25: 0 | T25: 0 | U25: 0 | Y25: Gewicht | Z25: =SUM(D25) -> 1080 | AC25: =SUM(G25) -> 140 | AE25: =SUM(I25) -> 0 | AG25: =SUM(K25) -> 0 | AI25: =SUM(M25) -> 640 | AJ25: =SUM(N25) -> 1620 | AK25: =SUM(O25) -> 0 | AL25: =SUM(P25) -> 340 | AN25: =SUM(R25) -> 0 | AQ25: =SUM(U25) -> 0
A26: Hari Pol | B26: Sen | C26: Punkte | D26: 19 | E26: 22 | F26: 21 | G26: 20 | H26: 20 | I26: 15 | J26: 21 | K26: 20 | L26: 20 | M26: 8 | N26: 1 | O26: 17 | P26: 6 | Q26: 15 | R26: 5 | S26: 20 | T26: 14 | U26: 17 | W26: Hari Pol | X26: Sen | Y26: Punkte | Z26: =SUM(D26) -> 19 | AE26: =SUM(I26) -> 15 | AI26: =SUM(M26) -> 8 | AJ26: =SUM(N26) -> 1 | AK26: =SUM(O26) -> 17 | AL26: =SUM(P26) -> 6 | AM26: =SUM(Q26) -> 15 | AN26: =SUM(R26) -> 5 | AP26: =SUM(T26) -> 14 | AQ26: =SUM(U26) -> 17 | AR26: =SUM(Z26:AQ26) -> 117 | AS26: =SUM(Z27:AQ27) -> 7820
C27: Gewicht | D27: 0 | E27: 0 | F27: 0 | G27: 0 | H27: 0 | I27: 0 | J27: 0 | K27: 0 | L27: 0 | M27: 180 | N27: 7000 | O27: 0 | P27: 390 | Q27: 0 | R27: 60 | S27: 0 | T27: 190 | U27: 0 | Y27: Gewicht | Z27: =SUM(D27) -> 0 | AE27: =SUM(I27) -> 0 | AI27: =SUM(M27) -> 180 | AJ27: =SUM(N27) -> 7000 | AK27: =SUM(O27) -> 0 | AL27: =SUM(P27) -> 390 | AM27: =SUM(Q27) -> 0 | AN27: =SUM(R27) -> 60 | AP27: =SUM(T27) -> 190 | AQ27: =SUM(U27) -> 0
A28: Hanff Francois | B28: Sen | C28: Punkte | D28: 19 | E28: 22 | F28: 3 | G28: 20 | H28: 4 | I28: 15 | J28: 8 | K28: 7 | L28: 6 | M28: 22 | N28: 25 | O28: 17 | P28: 28 | Q28: 24 | R28: 24 | S28: 29 | T28: 26 | U28: 26 | W28: Hanff Francois | X28: Sen | Y28: Punkte | Z28: =SUM(D28) -> 19 | AA28: =SUM(E28) -> 22 | AB28: =SUM(F28) -> 3 | AC28: =SUM(G28) -> 20 | AD28: =SUM(H28) -> 4 | AE28: =SUM(I28) -> 15 | AF28: =SUM(J28) -> 8 | AG28: =SUM(K28) -> 7 | AH28: =SUM(L28) -> 6 | AK28: =SUM(O28) -> 17 | AR28: =SUM(Z28:AQ28) -> 121 | AS28: =SUM(Z29:AQ29) -> 13300
C29: Gewicht | D29: 0 | E29: 0 | F29: 4140 | G29: 0 | H29: 2780 | I29: 0 | J29: 1610 | K29: 1970 | L29: 2800 | M29: 0 | N29: 0 | O29: 0 | P29: 0 | Q29: 0 | R29: 0 | S29: 0 | T29: 0 | U29: 0 | Y29: Gewicht | Z29: =SUM(D29) -> 0 | AA29: =SUM(E29) -> 0 | AB29: =SUM(F29) -> 4140 | AC29: =SUM(G29) -> 0 | AD29: =SUM(H29) -> 2780 | AE29: =SUM(I29) -> 0 | AF29: =SUM(J29) -> 1610 | AG29: =SUM(K29) -> 1970 | AH29: =SUM(L29) -> 2800 | AK29: =SUM(O29) -> 0
A30: Schmitt Victor | B30: Vet | C30: Punkte | D30: 19 | E30: 22 | F30: 21 | G30: 20 | H30: 20 | I30: 24 | J30: 21 | K30: 20 | L30: 20 | M30: 31 | N30: 9 | O30: 17 | P30: 10 | Q30: 7 | R30: 15 | S30: 4 | T30: 6 | U30: 17 | W30: Schmitt Victor | X30: Vet | Y30: Punkte | Z30: =SUM(D30) -> 19 | AH30: =SUM(L30) -> 20 | AJ30: =SUM(N30) -> 9 | AK30: =SUM(O30) -> 17 | AL30: =SUM(P30) -> 10 | AM30: =SUM(Q30) -> 7 | AN30: =SUM(R30) -> 15 | AO30: =SUM(S30) -> 4 | AP30: =SUM(T30) -> 6 | AQ30: =SUM(U30) -> 17 | AR30: =SUM(Z30:AQ30) -> 124 | AS30: =SUM(Z31:AQ31) -> 1360
C31: Gewicht | D31: 0 | E31: 0 | F31: 0 | G31: 0 | H31: 0 | I31: 0 | J31: 0 | K31: 0 | L31: 0 | M31: 0 | N31: 340 | O31: 0 | P31: 310 | Q31: 10 | R31: 0 | S31: 160 | T31: 540 | U31: 0 | Y31: Gewicht | Z31: =SUM(D31) -> 0 | AH31: =SUM(L31) -> 0 | AJ31: =SUM(N31) -> 340 | AK31: =SUM(O31) -> 0 | AL31: =SUM(P31) -> 310 | AM31: =SUM(Q31) -> 10 | AN31: =SUM(R31) -> 0 | AO31: =SUM(S31) -> 160 | AP31: =SUM(T31) -> 540 | AQ31: =SUM(U31) -> 0
A32: Huberty Steve | B32: Sen | C32: Punkte | D32: 28 | E32: 22 | F32: 21 | G32: 29 | H32: 20 | I32: 24 | J32: 21 | K32: 20 | L32: 20 | M32: 4 | N32: 25 | O32: 17 | P32: 9 | Q32: 2 | R32: 15 | S32: 20 | T32: 12 | U32: 26 | W32: Huberty Steve | X32: Sen | Y32: Punkte | AD32: =SUM(H32) -> 20 | AG32: =SUM(K32) -> 20 | AH32: =SUM(L32) -> 20 | AI32: =SUM(M32) -> 4 | AK32: =SUM(O32) -> 17 | AL32: =SUM(P32) -> 9 | AM32: =SUM(Q32) -> 2 | AN32: =SUM(R32) -> 15 | AO32: =SUM(S32) -> 20 | AP32: =SUM(T32) -> 12 | AR32: =SUM(Z32:AQ32) -> 139 | AS32: =SUM(Z33:AQ33) -> 1690
C33: Gewicht | D33: 0 | E33: 0 | F33: 0 | G33: 0 | H33: 0 | I33: 0 | J33: 0 | K33: 0 | L33: 0 | M33: 740 | N33: 0 | O33: 0 | P33: 330 | Q33: 360 | R33: 0 | S33: 0 | T33: 260 | U33: 0 | Y33: Gewicht | AD33: =SUM(H33) -> 0 | AG33: =SUM(K33) -> 0 | AH33: =SUM(L33) -> 0 | AI33: =SUM(M33) -> 740 | AK33: =SUM(O33) -> 0 | AL33: =SUM(P33) -> 330 | AM33: =SUM(Q33) -> 360 | AN33: =SUM(R33) -> 0 | AO33: =SUM(S33) -> 0 | AP33: =SUM(T33) -> 260
A34: Prim Jean | B34: Vet | C34: Punkte | D34: 19 | E34: 9 | F34: 10 | G34: 29 | H34: 20 | I34: 24 | J34: 11 | K34: 20 | L34: 20 | M34: 31 | N34: 25 | O34: 17 | P34: 19 | Q34: 24 | R34: 3 | S34: 20 | T34: 26 | U34: 17 | W34: Prim Jean | X34: Vet | Y34: Punkte | Z34: =SUM(D34) -> 19 | AA34: =SUM(E34) -> 9 | AB34: =SUM(F34) -> 10 | AD34: =SUM(H34) -> 20 | AF34: =SUM(J34) -> 11 | AH34: =SUM(L34) -> 20 | AK34: =SUM(O34) -> 17 | AL34: =SUM(P34) -> 19 | AN34: =SUM(R34) -> 3 | AQ34: =SUM(U34) -> 17 | AR34: =SUM(Z34:AQ34) -> 145 | AS34: =SUM(Z35:AQ35) -> 1670
C35: Gewicht | D35: 0 | E35: 450 | F35: 770 | G35: 0 | H35: 0 | I35: 0 | J35: 340 | K35: 0 | L35: 0 | M35: 0 | N35: 0 | O35: 0 | P35: 0 | Q35: 0 | R35: 110 | S35: 0 | T35: 0 | U35: 0 | Y35: Gewicht | Z35: =SUM(D35) -> 0 | AA35: =SUM(E35) -> 450 | AB35: =SUM(F35) -> 770 | AD35: =SUM(H35) -> 0 | AF35: =SUM(J35) -> 340 | AH35: =SUM(L35) -> 0 | AK35: =SUM(O35) -> 0 | AL35: =SUM(P35) -> 0 | AN35: =SUM(R35) -> 110 | AQ35: =SUM(U35) -> 0
A36: Koetz Marc | B36: Sen | C36: Punkte | D36: 2 | E36: 13 | F36: 21 | G36: 20 | H36: 20 | I36: 15 | J36: 21 | K36: 20 | L36: 20 | M36: 31 | N36: 25 | O36: 17 | P36: 19 | Q36: 24 | R36: 24 | S36: 29 | T36: 4 | U36: 17 | W36: Koetz Marc | X36: Sen | Y36: Punkte | Z36: =SUM(D36) -> 2 | AA36: =SUM(E36) -> 13 | AC36: =SUM(G36) -> 20 | AD36: =SUM(H36) -> 20 | AE36: =SUM(I36) -> 15 | AH36: =SUM(L36) -> 20 | AK36: =SUM(O36) -> 17 | AL36: =SUM(P36) -> 19 | AP36: =SUM(T36) -> 4 | AQ36: =SUM(U36) -> 17 | AR36: =SUM(Z36:AQ36) -> 147 | AS36: =SUM(Z37:AQ37) -> 3540
C37: Gewicht | D37: 1670 | E37: 0 | F37: 0 | G37: 0 | H37: 0 | I37: 0 | J37: 0 | K37: 0 | L37: 0 | M37: 0 | N37: 0 | O37: 0 | P37: 0 | Q37: 0 | R37: 0 | S37: 0 | T37: 1870 | U37: 0 | Y37: Gewicht | Z37: =SUM(D37) -> 1670 | AA37: =SUM(E37) -> 0 | AC37: =SUM(G37) -> 0 | AD37: =SUM(H37) -> 0 | AE37: =SUM(I37) -> 0 | AH37: =SUM(L37) -> 0 | AK37: =SUM(O37) -> 0 | AL37: =SUM(P37) -> 0 | AP37: =SUM(T37) -> 1870 | AQ37: =SUM(U37) -> 0
A38: Metzger Fernand | B38: Sen | C38: Punkte | D38: 19 | E38: 13 | F38: 21 | G38: 1 | H38: 20 | I38: 24 | J38: 21 | K38: 20 | L38: 20 | M38: 22 | N38: 11 | O38: 17 | P38: 28 | Q38: 24 | R38: 24 | S38: 29 | T38: 26 | U38: 26 | W38: Metzger Fernand | X38: Sen | Y38: Punkte | Z38: =SUM(D38) -> 19 | AA38: =SUM(E38) -> 13 | AB38: =SUM(F38) -> 21 | AC38: =SUM(G38) -> 1 | AD38: =SUM(H38) -> 20 | AF38: =SUM(J38) -> 21 | AG38: =SUM(K38) -> 20 | AH38: =SUM(L38) -> 20 | AJ38: =SUM(N38) -> 11 | AK38: =SUM(O38) -> 17 | AR38: =SUM(Z38:AQ38) -> 163 | AS38: =SUM(Z39:AQ39) -> 930
C39: Gewicht | D39: 0 | E39: 0 | F39: 0 | G39: 690 | H39: 0 | I39: 0 | J39: 0 | K39: 0 | L39: 0 | M39: 0 | N39: 240 | O39: 0 | P39: 0 | Q39: 0 | R39: 0 | S39: 0 | T39: 0 | U39: 0 | Y39: Gewicht | Z39: =SUM(D39) -> 0 | AA39: =SUM(E39) -> 0 | AB39: =SUM(F39) -> 0 | AC39: =SUM(G39) -> 690 | AD39: =SUM(H39) -> 0 | AF39: =SUM(J39) -> 0 | AG39: =SUM(K39) -> 0 | AH39: =SUM(L39) -> 0 | AJ39: =SUM(N39) -> 240 | AK39: =SUM(O39) -> 0
A40: Boewer Nic | B40: Vet | C40: Punkte | D40: 28 | E40: 22 | F40: 21 | G40: 20 | H40: 20 | I40: 24 | J40: 21 | K40: 20 | L40: 20 | M40: 10 | N40: 25 | O40: 17 | P40: 19 | Q40: 24 | R40: 24 | S40: 8 | T40: 26 | U40: 17 | W40: Boewer Nic | X40: Vet | Y40: Punkte | AC40: =SUM(G40) -> 20 | AD40: =SUM(H40) -> 20 | AF40: =SUM(J40) -> 21 | AG40: =SUM(K40) -> 20 | AH40: =SUM(L40) -> 20 | AI40: =SUM(M40) -> 10 | AK40: =SUM(O40) -> 17 | AL40: =SUM(P40) -> 19 | AO40: =SUM(S40) -> 8 | AQ40: =SUM(U40) -> 17 | AR40: =SUM(Z40:AQ40) -> 172 | AS40: =SUM(Z41:AQ41) -> 110
C41: Gewicht | D41: 0 | E41: 0 | F41: 0 | G41: 0 | H41: 0 | I41: 0 | J41: 0 | K41: 0 | L41: 0 | M41: 90 | N41: 0 | O41: 0 | P41: 0 | Q41: 0 | R41: 0 | S41: 20 | T41: 0 | U41: 0 | Y41: Gewicht | AC41: =SUM(G41) -> 0 | AD41: =SUM(H41) -> 0 | AF41: =SUM(J41) -> 0 | AG41: =SUM(K41) -> 0 | AH41: =SUM(L41) -> 0 | AI41: =SUM(M41) -> 90 | AK41: =SUM(O41) -> 0 | AL41: =SUM(P41) -> 0 | AO41: =SUM(S41) -> 20 | AQ41: =SUM(U41) -> 0
A42: Royer René | B42: Sen | C42: Punkte | D42: 28 | E42: 22 | F42: 21 | G42: 29 | H42: 20 | I42: 24 | J42: 21 | K42: 20 | L42: 20 | M42: 7 | N42: 25 | O42: 17 | P42: 28 | Q42: 24 | R42: 24 | S42: 1 | T42: 26 | U42: 26 | W42: Royer René | X42: Sen | Y42: Punkte | AA42: =SUM(E42) -> 22 | AB42: =SUM(F42) -> 21 | AD42: =SUM(H42) -> 20 | AE42: =SUM(I42) -> 24 | AF42: =SUM(J42) -> 21 | AG42: =SUM(K42) -> 20 | AH42: =SUM(L42) -> 20 | AI42: =SUM(M42) -> 7 | AK42: =SUM(O42) -> 17 | AO42: =SUM(S42) -> 1 | AR42: =SUM(Z42:AQ42) -> 173 | AS42: =SUM(Z43:AQ43) -> 2720
C43: Gewicht | D43: 0 | E43: 0 | F43: 0 | G43: 0 | H43: 0 | I43: 0 | J43: 0 | K43: 0 | L43: 0 | M43: 190 | N43: 0 | O43: 0 | P43: 0 | Q43: 0 | R43: 0 | S43: 2530 | T43: 0 | U43: 0 | Y43: Gewicht | AA43: =SUM(E43) -> 0 | AB43: =SUM(F43) -> 0 | AD43: =SUM(H43) -> 0 | AE43: =SUM(I43) -> 0 | AF43: =SUM(J43) -> 0 | AG43: =SUM(K43) -> 0 | AH43: =SUM(L43) -> 0 | AI43: =SUM(M43) -> 190 | AK43: =SUM(O43) -> 0 | AO43: =SUM(S43) -> 2530
A44: Mossong Yves | B44: Sen | C44: Punkte | D44: 28 | E44: 22 | F44: 21 | G44: 29 | H44: 20 | I44: 24 | J44: 21 | K44: 20 | L44: 20 | M44: 14 | N44: 25 | O44: 17 | P44: 28 | Q44: 24 | R44: 24 | S44: 20 | T44: 9 | U44: 17 | W44: Mossong Yves | X44: Sen | Y44: Punkte | AB44: =SUM(F44) -> 21 | AD44: =SUM(H44) -> 20 | AF44: =SUM(J44) -> 21 | AG44: =SUM(K44) -> 20 | AH44: =SUM(L44) -> 20 | AI44: =SUM(M44) -> 14 | AK44: =SUM(O44) -> 17 | AO44: =SUM(S44) -> 20 | AP44: =SUM(T44) -> 9 | AQ44: =SUM(U44) -> 17 | AR44: =SUM(Z44:AQ44) -> 179 | AS44: =SUM(Z45:AQ45) -> 410
C45: Gewicht | D45: 0 | E45: 0 | F45: 0 | G45: 0 | H45: 0 | I45: 0 | J45: 0 | K45: 0 | L45: 0 | M45: 40 | N45: 0 | O45: 0 | P45: 0 | Q45: 0 | R45: 0 | S45: 0 | T45: 370 | U45: 0 | Y45: Gewicht | AB45: =SUM(F45) -> 0 | AD45: =SUM(H45) -> 0 | AF45: =SUM(J45) -> 0 | AG45: =SUM(K45) -> 0 | AH45: =SUM(L45) -> 0 | AI45: =SUM(M45) -> 40 | AK45: =SUM(O45) -> 0 | AO45: =SUM(S45) -> 0 | AP45: =SUM(T45) -> 370 | AQ45: =SUM(U45) -> 0
A46: Schmit Frank | B46: Sen | C46: Punkte | D46: 28 | E46: 22 | F46: 21 | G46: 29 | H46: 20 | I46: 24 | J46: 21 | K46: 20 | L46: 20 | M46: 13 | N46: 25 | O46: 17 | P46: 28 | Q46: 24 | R46: 24 | S46: 20 | T46: 26 | U46: 5 | W46: Schmit Frank | X46: Sen | Y46: Punkte | AA46: =SUM(E46) -> 22 | AB46: =SUM(F46) -> 21 | AD46: =SUM(H46) -> 20 | AF46: =SUM(J46) -> 21 | AG46: =SUM(K46) -> 20 | AH46: =SUM(L46) -> 20 | AI46: =SUM(M46) -> 13 | AK46: =SUM(O46) -> 17 | AO46: =SUM(S46) -> 20 | AQ46: =SUM(U46) -> 5 | AR46: =SUM(Z46:AQ46) -> 179 | AS46: =SUM(Z47:AQ47) -> 100
C47: Gewicht | D47: 0 | E47: 0 | F47: 0 | G47: 0 | H47: 0 | I47: 0 | J47: 0 | K47: 0 | L47: 0 | M47: 80 | N47: 0 | O47: 0 | P47: 0 | Q47: 0 | R47: 0 | S47: 0 | T47: 0 | U47: 20 | Y47: Gewicht | AA47: =SUM(E47) -> 0 | AB47: =SUM(F47) -> 0 | AD47: =SUM(H47) -> 0 | AF47: =SUM(J47) -> 0 | AG47: =SUM(K47) -> 0 | AH47: =SUM(L47) -> 0 | AI47: =SUM(M47) -> 80 | AK47: =SUM(O47) -> 0 | AO47: =SUM(S47) -> 0 | AQ47: =SUM(U47) -> 20
A50: Braun Myriam | B50: Dam | C50: Punkte | D50: 28 | E50: 22 | F50: 21 | G50: 20 | H50: 20 | I50: 24 | J50: 21 | K50: 20 | L50: 20 | M50: 10 | N50: 25 | O50: 17 | P50: 28 | Q50: 24 | R50: 24 | S50: 29 | T50: 26 | U50: 17 | W50: Braun Myriam | X50: Dam | Y50: Punkte | AA50: =SUM(E50) -> 22 | AB50: =SUM(F50) -> 21 | AC50: =SUM(G50) -> 20 | AD50: =SUM(H50) -> 20 | AF50: =SUM(J50) -> 21 | AG50: =SUM(K50) -> 20 | AH50: =SUM(L50) -> 20 | AI50: =SUM(M50) -> 10 | AK50: =SUM(O50) -> 17 | AQ50: =SUM(U50) -> 17 | AR50: =SUM(Z50:AQ50) -> 188 | AS50: =SUM(Z51:AQ51) -> 90
C51: Gewicht | D51: 0 | E51: 0 | F51: 0 | G51: 0 | H51: 0 | I51: 0 | J51: 0 | K51: 0 | L51: 0 | M51: 90 | N51: 0 | O51: 0 | P51: 0 | Q51: 0 | R51: 0 | S51: 0 | T51: 0 | U51: 0 | Y51: Gewicht | AA51: =SUM(E51) -> 0 | AB51: =SUM(F51) -> 0 | AC51: =SUM(G51) -> 0 | AD51: =SUM(H51) -> 0 | AF51: =SUM(J51) -> 0 | AG51: =SUM(K51) -> 0 | AH51: =SUM(L51) -> 0 | AI51: =SUM(M51) -> 90 | AK51: =SUM(O51) -> 0 | AQ51: =SUM(U51) -> 0
A52: Jager J-M | B52: Vet | C52: Punkte | D52: 28 | E52: 22 | F52: 21 | G52: 20 | H52: 20 | I52: 24 | J52: 21 | K52: 20 | L52: 20 | M52: 22 | N52: 25 | O52: 17 | P52: 28 | Q52: 24 | R52: 24 | S52: 20 | T52: 26 | U52: 26 | W52: Jager J-M | X52: Vet | Y52: Punkte | AA52: =SUM(E52) -> 22 | AB52: =SUM(F52) -> 21 | AC52: =SUM(G52) -> 20 | AD52: =SUM(H52) -> 20 | AF52: =SUM(J52) -> 21 | AG52: =SUM(K52) -> 20 | AH52: =SUM(L52) -> 20 | AI52: =SUM(M52) -> 22 | AK52: =SUM(O52) -> 17 | AO52: =SUM(S52) -> 20 | AR52: =SUM(Z52:AQ52) -> 203 | AS52: =SUM(Z53:AQ53) -> 0
C53: Gewicht | D53: 0 | E53: 0 | F53: 0 | G53: 0 | H53: 0 | I53: 0 | J53: 0 | K53: 0 | L53: 0 | M53: 0 | N53: 0 | O53: 0 | P53: 0 | Q53: 0 | R53: 0 | S53: 0 | T53: 0 | U53: 0 | Y53: Gewicht | AA53: =SUM(E53) -> 0 | AB53: =SUM(F53) -> 0 | AC53: =SUM(G53) -> 0 | AD53: =SUM(H53) -> 0 | AF53: =SUM(J53) -> 0 | AG53: =SUM(K53) -> 0 | AH53: =SUM(L53) -> 0 | AI53: =SUM(M53) -> 0 | AK53: =SUM(O53) -> 0 | AO53: =SUM(S53) -> 0
A54: Braun Mike | B54: Dam | C54: Punkte | D54: 28 | E54: 22 | F54: 21 | G54: 29 | H54: 20 | I54: 24 | J54: 21 | K54: 20 | L54: 20 | M54: 22 | N54: 25 | O54: 17 | P54: 28 | Q54: 24 | R54: 24 | S54: 29 | T54: 26 | U54: 26 | W54: Braun Mike | X54: Dam | Y54: Punkte | AA54: =SUM(E54) -> 22 | AB54: =SUM(F54) -> 21 | AD54: =SUM(H54) -> 20 | AE54: =SUM(I54) -> 24 | AF54: =SUM(J54) -> 21 | AG54: =SUM(K54) -> 20 | AH54: =SUM(L54) -> 20 | AI54: =SUM(M54) -> 22 | AK54: =SUM(O54) -> 17 | AM54: =SUM(Q54) -> 24 | AR54: =SUM(Z54:AQ54) -> 211 | AS54: =SUM(Z55:AQ55) -> 0
C55: Gewicht | D55: 0 | E55: 0 | F55: 0 | G55: 0 | H55: 0 | I55: 0 | J55: 0 | K55: 0 | L55: 0 | M55: 0 | N55: 0 | O55: 0 | P55: 0 | Q55: 0 | R55: 0 | S55: 0 | T55: 0 | U55: 0 | Y55: Gewicht | AA55: =SUM(E55) -> 0 | AB55: =SUM(F55) -> 0 | AD55: =SUM(H55) -> 0 | AE55: =SUM(I55) -> 0 | AF55: =SUM(J55) -> 0 | AG55: =SUM(K55) -> 0 | AH55: =SUM(L55) -> 0 | AI55: =SUM(M55) -> 0 | AK55: =SUM(O55) -> 0 | AM55: =SUM(Q55) -> 0
A56: Haupert Pol | B56: Vet | C56: Punkte | D56: 28 | E56: 22 | F56: 21 | G56: 29 | H56: 20 | I56: 24 | J56: 21 | K56: 20 | L56: 20 | M56: 31 | N56: 25 | O56: 17 | P56: 28 | Q56: 24 | R56: 24 | S56: 29 | T56: 26 | U56: 26 | W56: Haupert Pol | X56: Vet | Y56: Punkte | AA56: =SUM(E56) -> 22 | AB56: =SUM(F56) -> 21 | AD56: =SUM(H56) -> 20 | AE56: =SUM(I56) -> 24 | AF56: =SUM(J56) -> 21 | AG56: =SUM(K56) -> 20 | AH56: =SUM(L56) -> 20 | AK56: =SUM(O56) -> 17 | AM56: =SUM(Q56) -> 24 | AN56: =SUM(R56) -> 24 | AR56: =SUM(Z56:AQ56) -> 213 | AS56: =SUM(Z57:AQ57) -> 0
C57: Gewicht | D57: 0 | E57: 0 | F57: 0 | G57: 0 | H57: 0 | I57: 0 | J57: 0 | K57: 0 | L57: 0 | M57: 0 | N57: 0 | O57: 0 | P57: 0 | Q57: 0 | R57: 0 | S57: 0 | T57: 0 | U57: 0 | Y57: Gewicht | AA57: =SUM(E57) -> 0 | AB57: =SUM(F57) -> 0 | AD57: =SUM(H57) -> 0 | AE57: =SUM(I57) -> 0 | AF57: =SUM(J57) -> 0 | AG57: =SUM(K57) -> 0 | AH57: =SUM(L57) -> 0 | AK57: =SUM(O57) -> 0 | AM57: =SUM(Q57) -> 0 | AN57: =SUM(R57) -> 0
A58: Stamet Guy | B58: Sen | C58: Punkte | D58: 28 | E58: 22 | F58: 21 | G58: 29 | H58: 20 | I58: 24 | J58: 21 | K58: 20 | L58: 20 | M58: 31 | N58: 25 | O58: 17 | P58: 28 | Q58: 24 | R58: 24 | S58: 29 | T58: 26 | U58: 26 | W58: Stamet Guy | X58: Sen | Y58: Punkte | AA58: =SUM(E58) -> 22 | AB58: =SUM(F58) -> 21 | AD58: =SUM(H58) -> 20 | AE58: =SUM(I58) -> 24 | AF58: =SUM(J58) -> 21 | AG58: =SUM(K58) -> 20 | AH58: =SUM(L58) -> 20 | AK58: =SUM(O58) -> 17 | AM58: =SUM(Q58) -> 24 | AN58: =SUM(R58) -> 24 | AR58: =SUM(Z58:AQ58) -> 213 | AS58: =SUM(Z59:AQ59) -> 0
C59: Gewicht | D59: 0 | E59: 0 | F59: 0 | G59: 0 | H59: 0 | I59: 0 | J59: 0 | K59: 0 | L59: 0 | M59: 0 | N59: 0 | O59: 0 | P59: 0 | Q59: 0 | R59: 0 | S59: 0 | T59: 0 | U59: 0 | Y59: Gewicht | AA59: =SUM(E59) -> 0 | AB59: =SUM(F59) -> 0 | AD59: =SUM(H59) -> 0 | AE59: =SUM(I59) -> 0 | AF59: =SUM(J59) -> 0 | AG59: =SUM(K59) -> 0 | AH59: =SUM(L59) -> 0 | AK59: =SUM(O59) -> 0 | AM59: =SUM(Q59) -> 0 | AN59: =SUM(R59) -> 0
A60: Lagodny Tom | B60: Sen | C60: Punkte | D60: 28 | E60: 22 | F60: 21 | G60: 29 | H60: 20 | I60: 24 | J60: 21 | K60: 20 | L60: 20 | M60: 31 | N60: 25 | O60: 17 | P60: 28 | Q60: 24 | R60: 24 | S60: 29 | T60: 26 | U60: 26 | W60: Lagodny Tom | X60: Sen | Y60: Punkte | AA60: =SUM(E60) -> 22 | AB60: =SUM(F60) -> 21 | AD60: =SUM(H60) -> 20 | AE60: =SUM(I60) -> 24 | AF60: =SUM(J60) -> 21 | AG60: =SUM(K60) -> 20 | AH60: =SUM(L60) -> 20 | AK60: =SUM(O60) -> 17 | AM60: =SUM(Q60) -> 24 | AN60: =SUM(R60) -> 24 | AR60: =SUM(Z60:AQ60) -> 213 | AS60: =SUM(Z61:AQ61) -> 0
C61: Gewicht | D61: 0 | E61: 0 | F61: 0 | G61: 0 | H61: 0 | I61: 0 | J61: 0 | K61: 0 | L61: 0 | M61: 0 | N61: 0 | O61: 0 | P61: 0 | Q61: 0 | R61: 0 | S61: 0 | T61: 0 | U61: 0 | Y61: Gewicht | AA61: =SUM(E61) -> 0 | AB61: =SUM(F61) -> 0 | AD61: =SUM(H61) -> 0 | AE61: =SUM(I61) -> 0 | AF61: =SUM(J61) -> 0 | AG61: =SUM(K61) -> 0 | AH61: =SUM(L61) -> 0 | AK61: =SUM(O61) -> 0 | AM61: =SUM(Q61) -> 0 | AN61: =SUM(R61) -> 0
A62: Beckers Yannick | B62: U18 | C62: Punkte | D62: 28 | E62: 22 | F62: 21 | G62: 20 | H62: 20 | I62: 24 | J62: 21 | K62: 20 | L62: 20 | M62: 31 | N62: 25 | O62: 17 | P62: 7 | Q62: 15 | R62: 24 | S62: 29 | T62: 26 | U62: 26 | W62: Beckers Yannick | X62: U18 | Y62: Punkte | AA62: =SUM(E62) -> 22 | AB62: =SUM(F62) -> 21 | AC62: =SUM(G62) -> 20 | AD62: =SUM(H62) -> 20 | AF62: =SUM(J62) -> 21 | AG62: =SUM(K62) -> 20 | AH62: =SUM(L62) -> 20 | AK62: =SUM(O62) -> 17 | AL62: =SUM(P62) -> 7 | AM62: =SUM(Q62) -> 15 | AR62: =SUM(Z62:AQ62) -> 183 | AS62: =SUM(Z63:AQ63) -> 340
C63: Gewicht | D63: 0 | E63: 0 | F63: 0 | G63: 0 | H63: 0 | I63: 0 | J63: 0 | K63: 0 | L63: 0 | M63: 0 | N63: 0 | O63: 0 | P63: 340 | Q63: 0 | R63: 0 | S63: 0 | T63: 0 | U63: 0 | Y63: Gewicht | AA63: =SUM(E63) -> 0 | AB63: =SUM(F63) -> 0 | AC63: =SUM(G63) -> 0 | AD63: =SUM(H63) -> 0 | AF63: =SUM(J63) -> 0 | AG63: =SUM(K63) -> 0 | AH63: =SUM(L63) -> 0 | AK63: =SUM(O63) -> 0 | AL63: =SUM(P63) -> 340 | AM63: =SUM(Q63) -> 0

Sheet Reglement
