Workbook

Sheet Total
J1: 42651
D2: Punkteklassement 2016
D5: Name | E5: Kat. | G5: PUNKTE der 10 besten Preisfischen | H5: GEWICHT der 10 besten Preisfischen | J5: Gewiicht vun denen 4 Manchen fir den Ulzecht-Champion
A6: 1 | B6: =Concours!G119 -> 26 | C6: =Concours!H119 -> 59690 | D6: Gonring Jang | E6: Vet | G6: =B6 -> 26 | H6: =C6 -> 59690 | J6: =Alzette!E29 -> 610
A7: 2 | B7: =Concours!G371 -> 33 | C7: =Concours!H371 -> 17980 | D7: Lallemang Leon | E7: Sen | G7: =B7 -> 33 | H7: =C7 -> 17980 | J7: =Alzette!E85 -> 330
A8: 3 | B8: =Concours!G389 -> 34 | C8: =Concours!H389 -> 25710 | D8: Mudeler Johny | E8: Sen | G8: =B8 -> 34 | H8: =C8 -> 25710 | J8: =Alzette!E89 -> 2380
A9: 4 | B9: =Concours!G245 -> 34 | C9: =Concours!H245 -> 15380 | D9: Huberty Mike | E9: Sen | G9: =B9 -> 34 | H9: =C9 -> 15380 | J9: =Alzette!E57 -> 1540
A10: 5 | B10: =Concours!G101 -> 35 | C10: =Concours!H101 -> 21600 | D10: Geiben Carlo | E10: Vet | G10: =B10 -> 35 | H10: =C10 -> 21600 | J10: =Alzette!E25 -> 640
A11: 6 | B11: =Concours!G425 -> 36 | C11: =Concours!H425 -> 28290 | D11: Reding Serge | E11: Sen | G11: =B11 -> 36 | H11: =C11 -> 28290 | J11: =Alzette!E97 -> 9770
A12: 7 | B12: =Concours!G317 -> 43 | C12: =Concours!H317 -> 14900 | D12: Kartheiser Gilles | E12: Sen | G12: =B12 -> 43 | H12: =C12 -> 14900 | J12: =Alzette!E73 -> 1090
A13: 8 | B13: =Concours!G209 -> 55 | C13: =Concours!H209 -> 15560 | D13: Heirens Albert | E13: Vet | G13: =B13 -> 55 | H13: =C13 -> 15560 | J13: =Alzette!E49 -> 180
A14: 9 | B14: =Concours!G137 -> 71 | C14: =Concours!H137 -> 11820 | D14: Hahn Francis | E14: Sen | G14: =B14 -> 71 | H14: =C14 -> 11820 | J14: =Alzette!E33 -> 0
A15: 10 | B15: =Concours!G227 -> 86 | C15: =Concours!H227 -> 8540 | D15: Huberty Nico | E15: Vet | G15: =B15 -> 86 | H15: =C15 -> 8540 | J15: =Alzette!E53 -> 0
A16: 11 | B16: =Concours!G479 -> 91 | C16: =Concours!H479 -> 6040 | D16: Schmitz Ben | E16: U23 | G16: =B16 -> 91 | H16: =C16 -> 6040 | J16: =Alzette!E109 -> 150
A17: 12 | B17: =Concours!G533 -> 109 | C17: =Concours!H533 -> 3820 | D17: Weirich Serge | E17: Sen | G17: =B17 -> 109 | H17: =C17 -> 3820 | J17: =Alzette!E121 -> 780
A18: 13 | B18: =Concours!G173 -> 117 | C18: =Concours!H173 -> 7820 | D18: Hari Pol | E18: Sen | G18: =B18 -> 117 | H18: =C18 -> 7820 | J18: =Alzette!E41 -> 180
A19: 14 | B19: =Concours!G155 -> 121 | C19: =Concours!H155 -> 13300 | D19: Hanff Francois | E19: Sen | G19: =B19 -> 121 | H19: =C19 -> 13300 | J19: =Alzette!E37 -> 0
A20: 15 | B20: =Concours!G461 -> 124 | C20: =Concours!H461 -> 1360 | D20: Schmitt Victor | E20: Vet | G20: =B20 -> 124 | H20: =C20 -> 1360 | J20: =Alzette!E105 -> 0
A21: 16 | B21: =Concours!G263 -> 139 | C21: =Concours!H263 -> 1690 | D21: Huberty Steve | E21: Sen | G21: =B21 -> 139 | H21: =C21 -> 1690 | J21: =Alzette!E61 -> 740
A22: 17 | B22: =Concours!G407 -> 145 | C22: =Concours!H407 -> 1670 | D22: Prim Jean | E22: Vet | G22: =B22 -> 145 | H22: =C22 -> 1670 | J22: =Alzette!E93 -> 0
A23: 18 | B23: =Concours!G335 -> 147 | C23: =Concours!H335 -> 3540 | D23: Koetz Marc | E23: Sen | G23: =B23 -> 147 | H23: =C23 -> 3540 | J23: =Alzette!E77 -> 0
A24: 19 | B24: =Concours!G29 -> 163 | C24: =Concours!H29 -> 930 | D24: Metzger Fernand | E24: Sen | G24: =B24 -> 163 | H24: =C24 -> 930 | J24: =Alzette!E9 -> 690
A25: 20 | B25: =Concours!G47 -> 172 | C25: =Concours!H47 -> 110 | D25: Boewer Nic | E25: Vet | G25: =B25 -> 172 | H25: =C25 -> 110 | J25: =Alzette!E13 -> 110
A26: 21 | B26: =Concours!G443 -> 173 | C26: =Concours!H443 -> 2720 | D26: Royer René | E26: Sen | G26: =B26 -> 173 | H26: =C26 -> 2720 | J26: =Alzette!E101 -> 2720
A27: 22 | B27: =Concours!G551 -> 179 | C27: =Concours!H551 -> 410 | D27: Mossong Yves | E27: Sen | G27: =B27 -> 179 | H27: =C27 -> 410 | J27: =Alzette!E125 -> 40
A28: 23 | B28: =Concours!G515 -> 179 | C28: =Concours!H515 -> 100 | D28: Schmit Frank | E28: Sen | G28: =B28 -> 179 | H28: =C28 -> 100 | J28: =Alzette!E117 -> 100
A29: 24 | B29: =Concours!G11 -> 183 | C29: =Concours!H11 -> 340 | D29: Beckers Yannick | E29: U14 | G29: =B29 -> 183 | H29: =C29 -> 340 | J29: =Alzette!E5 -> 0
A30: 25 | B30: =Concours!G65 -> 188 | C30: =Concours!H65 -> 90 | D30: Braun Myriam | E30: Dam | G30: =B30 -> 188 | H30: =C30 -> 90 | J30: =Alzette!E17 -> 90
A31: 26 | B31: =Concours!G281 -> 203 | C31: =Concours!H281 -> 0 | D31: Jaeger J-M | E31: Vet | G31: =B31 -> 203 | H31: =C31 -> 0 | J31: =Alzette!E65 -> 0
A32: 27 | B32: =Concours!G83 -> 211 | C32: =Concours!H83 -> 0 | D32: Braun Mike | E32: Sen | G32: =B32 -> 211 | H32: =C32 -> 0 | J32: =Alzette!E21 -> 0
A33: 28 | B33: =Concours!G191 -> 213 | C33: =Concours!H191 -> 0 | D33: Haupert Paul | E33: Vet | G33: =B33 -> 213 | H33: =C33 -> 0 | J33: =Alzette!E45 -> 0
A34: 29 | B34: =Concours!G353 -> 213 | C34: =Concours!H353 -> 0 | D34: Lagodny Tom | E34: Sen | G34: =B34 -> 213 | H34: =C34 -> 0 | J34: =Alzette!E81 -> 0
A35: 30 | B35: =Concours!G299 -> 213 | C35: =Concours!H299 -> 0 | D35: Kaiser Guy | E35: Sen | G35: =B35 -> 213 | H35: =C35 -> 0 | J35: =Alzette!E69 -> 0
A36: 31 | B36: =Concours!G497 -> 213 | C36: =Concours!H497 -> 0 | D36: Stamet Guy | E36: Sen | G36: =B36 -> 213 | H36: =C36 -> 0 | J36: =Alzette!E113 -> 0
A37: 32 | B37: =Concours!G569 -> 236 | C37: =Concours!H569 -> 0 | D37: X4 | G37: =B37 -> 236 | H37: =C37 -> 0 | J37: =Alzette!E129 -> 0
A38: 33 | B38: =Concours!G587 -> 236 | C38: =Concours!H587 -> 0 | D38: X5 | G38: =B38 -> 236 | H38: =C38 -> 0 | J38: =Alzette!E133 -> 0

Sheet Concours
B1: Datum | C1: Organisator | D1: Name | E1: Punkte | F1: Gewicht | G1: Punkte | H1: Gewicht
A2: =E2 -> 7 | B2: 42617 | C2: Diekirch | D2: Beckers Yannick | E2: 7 | F2: 340
A3: =E3 -> 15 | B3: 42624 | C3: Ueschdref 2000 | D3: Beckers Yannick | E3: 15 | F3: 0
A4: =E4 -> 17 | B4: 42610 | C4: Rodange | D4: Beckers Yannick | E4: 17 | F4: /
A5: =E5 -> 20 | B5: 42561 | C5: 1. Manche | D5: Beckers Yannick | E5: 20 | F5: 0
A6: =E6 -> 20 | B6: 42568 | C6: Stadtbredimus | D6: Beckers Yannick | E6: 20 | F6: /
A7: =E7 -> 20 | B7: 42589 | C7: Steinsel | D7: Beckers Yannick | E7: 20 | F7: /
A8: =E8 -> 20 | B8: 42596 | C8: Section Compétition | D8: Beckers Yannick | E8: 20 | F8: /
A9: =E9 -> 21 | B9: 42554 | C9: Bettembourg | D9: Beckers Yannick | E9: 21 | F9: /
A10: =E10 -> 21 | B10: 42582 | C10: Pétange | D10: Beckers Yannick | E10: 21 | F10: /
A11: =E11 -> 22 | B11: 42547 | C11: Péiteschfeier | D11: Beckers Yannick | E11: 22 | F11: / | G11: =SUM(E2:E11) -> 183 | H11: =SUM(F2:F11) -> 340
A12: =E12 -> 24 | B12: 42575 | C12: Echternach | D12: Beckers Yannick | E12: 24 | F12: /
A13: =E13 -> 24 | B13: 42631 | C13: Gilsdorf | D13: Beckers Yannick | E13: 24 | F13: /
A14: =E14 -> 25 | B14: 42603 | C14: Coupe de la Sure | D14: Beckers Yannick | E14: 25 | F14: /
A15: =E15 -> 26 | B15: 42644 | C15: Veianen | D15: Beckers Yannick | E15: 26 | F15: /
A16: =E16 -> 26 | B16: 42651 | C16: 4.Manche | D16: Beckers Yannick | E16: 26 | F16: /
A17: =E17 -> 28 | B17: 42540 | C17: Coupe de l´Entente | D17: Beckers Yannick | E17: 28 | F17: /
A18: =E18 -> 29 | B18: 42638 | C18: 3.Manche | D18: Beckers Yannick | E18: 29 | F18: /
A19: =E19 -> 31 | B19: 42597 | C19: 2.Manche | D19: Beckers Yannick | E19: 31 | F19: /
A20: =E20 -> 1 | B20: 42561 | C20: 1. Manche | D20: Metzger Fernand | E20: 1 | F20: 690
A21: =E21 -> 11 | B21: 42603 | C21: Coupe de la Sure | D21: Metzger Fernand | E21: 11 | F21: 240
A22: =E22 -> 13 | B22: 42547 | C22: Péiteschfeier | D22: Metzger Fernand | E22: 13 | F22: 0
A23: =E23 -> 17 | B23: 42610 | C23: Rodange | D23: Metzger Fernand | E23: 17 | F23: /
A24: =E24 -> 19 | B24: 42540 | C24: Coupe de l´Entente | D24: Metzger Fernand | E24: 19 | F24: 0
A25: =E25 -> 20 | B25: 42568 | C25: Stadtbredimus | D25: Metzger Fernand | E25: 20 | F25: /
A26: =E26 -> 20 | B26: 42589 | C26: Steinsel | D26: Metzger Fernand | E26: 20 | F26: /
A27: =E27 -> 20 | B27: 42596 | C27: Section Compétition | D27: Metzger Fernand | E27: 20 | F27: /
A28: =E28 -> 21 | B28: 42554 | C28: Bettembourg | D28: Metzger Fernand | E28: 21 | F28: /
A29: =E29 -> 21 | B29: 42582 | C29: Pétange | D29: Metzger Fernand | E29: 21 | F29: / | G29: =SUM(E20:E29) -> 163 | H29: =SUM(F20:F29) -> 930
A30: =E30 -> 22 | B30: 42597 | C30: 2.Manche | D30: Metzger Fernand | E30: 22 | F30: 0
A31: =E31 -> 24 | B31: 42575 | C31: Echternach | D31: Metzger Fernand | E31: 24 | F31: /
A32: =E32 -> 24 | B32: 42624 | C32: Ueschdref 2000 | D32: Metzger Fernand | E32: 24 | F32: /
A33: =E33 -> 24 | B33: 42631 | C33: Gilsdorf | D33: Metzger Fernand | E33: 24 | F33: /
A34: =E34 -> 26 | B34: 42644 | C34: Veianen | D34: Metzger Fernand | E34: 26 | F34: /
A35: =E35 -> 26 | B35: 42651 | C35: 4.Manche | D35: Metzger Fernand | E35: 26 | F35: /
A36: =E36 -> 28 | B36: 42617 | C36: Diekirch | D36: Metzger Fernand | E36: 28 | F36: /
A37: =E37 -> 29 | B37: 42638 | C37: 3.Manche | D37: Metzger Fernand | E37: 29 | F37: /
A38: =E38 -> 8 | B38: 42638 | C38: 3.Manche | D38: Boewer Nic | E38: 8 | F38: 20
A39: =E39 -> 10 | B39: 42597 | C39: 2.Manche | D39: Boewer Nic | E39: 10 | F39: 90
A40: =E40 -> 17 | B40: 42610 | C40: Rodange | D40: Boewer Nic | E40: 17 | F40: /
...

Sheet Alzette
A1: Datum | B1: Organisator | C1: Name | D1: Gewicht | E1: Total
A2: 42561 | B2: 1. Manche | C2: Beckers Yannick | D2: 0
A3: 42597 | B3: 2. Manche | C3: Beckers Yannick | D3: /
A4: 42638 | B4: 3. Manche | C4: Beckers Yannick | D4: /
A5: 42651 | B5: 4. Manche | C5: Beckers Yannick | D5: / | E5: =SUM(D2:D5) -> 0
A6: 42561 | B6: 1. Manche | C6: Metzger Fernand | D6: 690
A7: 42597 | B7: 2. Manche | C7: Metzger Fernand | D7: 0
A8: 42638 | B8: 3. Manche | C8: Metzger Fernand | D8: /
A9: 42651 | B9: 4. Manche | C9: Metzger Fernand | D9: / | E9: =SUM(D6:D9) -> 690
A10: 42561 | B10: 1. Manche | C10: Boewer Nic | D10: 0
A11: 42597 | B11: 2. Manche | C11: Boewer Nic | D11: 90
A12: 42638 | B12: 3. Manche | C12: Boewer Nic | D12: 20
A13: 42651 | B13: 4. Manche | C13: Boewer Nic | D13: 0 | E13: =SUM(D10:D13) -> 110
A14: 42561 | B14: 1. Manche | C14: Braun Myriam | D14: 0
A15: 42597 | B15: 2. Manche | C15: Braun Myriam | D15: 90
A16: 42638 | B16: 3. Manche | C16: Braun Myriam | D16: /
A17: 42651 | B17: 4. Manche | C17: Braun Myriam | D17: 0 | E17: =SUM(D14:D17) -> 90
A18: 42561 | B18: 1. Manche | C18: Braun Mike | D18: /
A19: 42597 | B19: 2. Manche | C19: Braun Mike | D19: 0
A20: 42638 | B20: 3. Manche | C20: Braun Mike | D20: /
A21: 42651 | B21: 4. Manche | C21: Braun Mike | D21: / | E21: =SUM(D18:D21) -> 0
A22: 42561 | B22: 1. Manche | C22: Geiben Carlo | D22: 0
A23: 42597 | B23: 2. Manche | C23: Geiben Carlo | D23: 600
A24: 42638 | B24: 3. Manche | C24: Geiben Carlo | D24: 0
A25: 42651 | B25: 4. Manche | C25: Geiben Carlo | D25: 40 | E25: =SUM(D22:D25) -> 640
A26: 42561 | B26: 1. Manche | C26: Gonring Jang | D26: 580
A27: 42597 | B27: 2. Manche | C27: Gonring Jang | D27: 0
A28: 42638 | B28: 3. Manche | C28: Gonring Jang | D28: 30
A29: 42651 | B29: 4. Manche | C29: Gonring Jang | D29: 0 | E29: =SUM(D26:D29) -> 610
A30: 42561 | B30: 1. Manche | C30: Hahn Francis | D30: 0
A31: 42597 | B31: 2. Manche | C31: Hahn Francis | D31: /
A32: 42638 | B32: 3. Manche | C32: Hahn Francis | D32: /
A33: 42651 | B33: 4. Manche | C33: Hahn Francis | D33: / | E33: =SUM(D30:D33) -> 0
A34: 42561 | B34: 1. Manche | C34: Hanff Francois | D34: 0
A35: 42597 | B35: 2. Manche | C35: Hanff Francois | D35: 0
A36: 42638 | B36: 3. Manche | C36: Hanff Francois | D36: /
A37: 42651 | B37: 4. Manche | C37: Hanff Francois | D37: / | E37: =SUM(D34:D37) -> 0
A38: 42561 | B38: 1. Manche | C38: Hari Pol | D38: 0
A39: 42597 | B39: 2. Manche | C39: Hari Pol | D39: 180
A40: 42638 | B40: 3. Manche | C40: Hari Pol | D40: 0
...

Sheet Tabelle Fränz
A1: Name | B1: Kat. | D1: Coupe de l´Entente | E1: Péiteschfeier | F1: Bettembourg | G1: Manche 1 | H1: Stadtbredimus | I1: Albes Echternach | J1: Petange | K1: Steinsel | L1: Sec. de compétition | M1: Manche 2 | N1: Coupe de la Sure | O1: Rodange 2000 | P1: Diekrich | Q1: Ueschdref 2000 | R1: Gilsdorf | S1: Manche 3 | T1: Veianen | U1: Manche 4 | W1: Name | X1: Kat. | Z1: Coupe de l´Entente | AA1: Péiteschfeier | AB1: Bettembourg | AC1: Manche 1 | AD1: Stadtbredimus | AE1: Albes Echternach | AF1: Petange | AG1: Steinsel | AH1: Sec. de compétition | AI1: Manche 2 | AJ1: Coupe de la Sure | AK1: Rodange 2000 | AL1: Diekrich | AM1: Ueschdref 2000 | AN1: Gilsdorf | AO1: Manche 3 | AP1: Veianen | AQ1: Manche 4 | AR1: PUNKTE der 10 besten Preisfischen Total: | AS1: Gewicht der 10 besten Preisfischen Total:
A2: Gonring Jang | B2: Vet | C2: Punkte | D2: 1 | E2: 1 | F2: 5 | G2: 2 | H2: 1 | I2: 15 | J2: 1 | K2: 10 | L2: 9 | M2: 22 | N2: 16 | O2: 6 | P2: 1 | Q2: 5 | R2: 15 | S2: 7 | T2: 3 | U2: 17 | W2: Gonring Jang | X2: Vet | Y2: Punkte | Z2: =SUM(D2) -> 1 | AA2: =SUM(E2) -> 1 | AB2: =SUM(F2) -> 5 | AC2: =SUM(G2) -> 2 | AD2: =SUM(H2) -> 1 | AF2: =SUM(J2) -> 1 | AK2: =SUM(O2) -> 6 | AL2: =SUM(P2) -> 1 | AM2: =SUM(Q2) -> 5 | AP2: =SUM(T2) -> 3 | AR2: =SUM(Z2:AQ2) -> 26 | AS2: =SUM(Z3:AQ3) -> 59690
C3: Gewicht | D3: 5220 | E3: 10090 | F3: 3020 | G3: 580 | H3: 13740 | I3: 0 | J3: 16190 | K3: 640 | L3: 1350 | M3: 0 | N3: 0 | O3: 750 | P3: 7080 | Q3: 40 | R3: 0 | S3: 30 | T3: 2980 | U3: 0 | Y3: Gewicht | Z3: =SUM(D3) -> 5220 | AA3: =SUM(E3) -> 10090 | AB3: =SUM(F3) -> 3020 | AC3: =SUM(G3) -> 580 | AD3: =SUM(H3) -> 13740 | AF3: =SUM(J3) -> 16190 | AK3: =SUM(O3) -> 750 | AL3: =SUM(P3) -> 7080 | AM3: =SUM(Q3) -> 40 | AP3: =SUM(T3) -> 2980
A4: Lallemang Leon | B4: Sen | C4: Punkte | D4: 19 | E4: 3 | F4: 6 | G4: 20 | H4: 2 | I4: 15 | J4: 5 | K4: 2 | L4: 2 | M4: 9 | N4: 8 | O4: 4 | P4: 19 | Q4: 3 | R4: 24 | S4: 3 | T4: 16 | U4: 3 | W4: Lallemang Leon | X4: Sen | Y4: Punkte | AA4: =SUM(E4) -> 3 | AB4: =SUM(F4) -> 6 | AD4: =SUM(H4) -> 2 | AF4: =SUM(J4) -> 5 | AG4: =SUM(K4) -> 2 | AH4: =SUM(L4) -> 2 | AK4: =SUM(O4) -> 4 | AM4: =SUM(Q4) -> 3 | AO4: =SUM(S4) -> 3 | AQ4: =SUM(U4) -> 3 | AR4: =SUM(Z4:AQ4) -> 33 | AS4: =SUM(Z5:AQ5) -> 21390
C5: Gewicht | D5: 0 | E5: 4320 | F5: 2940 | G5: 0 | H5: 3410 | I5: 0 | J5: 2240 | K5: 2830 | L5: 3870 | M5: 110 | N5: 800 | O5: 1360 | P5: 0 | Q5: 200 | R5: 0 | S5: 170 | T5: 160 | U5: 50 | Y5: Gewicht | AA5: =SUM(E5) -> 4320 | AB5: =SUM(F5) -> 2940 | AD5: =SUM(H5) -> 3410 | AF5: =SUM(J5) -> 2240 | AG5: =SUM(K5) -> 2830 | AH5: =SUM(L5) -> 3870 | AK5: =SUM(O5) -> 1360 | AM5: =SUM(Q5) -> 200 | AO5: =SUM(S5) -> 170 | AQ5: =SUM(U5) -> 50
A6: Mudeler Johny | B6: Sen | C6: Punkte | D6: 4 | E6: 2 | F6: 2 | G6: 6 | H6: 20 | I6: 2 | J6: 10 | K6: 20 | L6: 4 | M6: 2 | N6: 10 | O6: 7 | P6: 19 | Q6: 4 | R6: 15 | S6: 20 | T6: 1 | U6: 17 | W6: Mudeler Johny | X6: Sen | Y6: Punkte | Z6: =SUM(D6) -> 4 | AA6: =SUM(E6) -> 2 | AB6: =SUM(F6) -> 2 | AC6: =SUM(G6) -> 6 | AE6: =SUM(I6) -> 2 | AH6: =SUM(L6) -> 4 | AI6: =SUM(M6) -> 2 | AK6: =SUM(O6) -> 7 | AM6: =SUM(Q6) -> 4 | AP6: =SUM(T6) -> 1 | AR6: =SUM(Z6:AQ6) -> 34 | AS6: =SUM(Z7:AQ7) -> 25710
C7: Gewicht | D7: 980 | E7: 4840 | F7: 4250 | G7: 90 | H7: 0 | I7: 1420 | J7: 730 | K7: 0 | L7: 3430 | M7: 2290 | N7: 260 | O7: 480 | P7: 0 | Q7: 60 | R7: 0 | S7: 0 | T7: 7870 | U7: 0 | Y7: Gewicht | Z7: =SUM(D7) -> 980 | AA7: =SUM(E7) -> 4840 | AB7: =SUM(F7) -> 4250 | AC7: =SUM(G7) -> 90 | AE7: =SUM(I7) -> 1420 | AH7: =SUM(L7) -> 3430 | AI7: =SUM(M7) -> 2290 | AK7: =SUM(O7) -> 480 | AM7: =SUM(Q7) -> 60 | AP7: =SUM(T7) -> 7870
A8: Huberty Mike | B8: Sen | C8: Punkte | D8: 19 | E8: 5 | F8: 11 | G8: 20 | H8: 10 | I8: 1 | J8: 9 | K8: 9 | L8: 10 | M8: 3 | N8: 2 | O8: 17 | P8: 2 | Q8: 15 | R8: 3 | S8: 5 | T8: 2 | U8: 2 | W8: Huberty Mike | X8: Sen | Y8: Punkte | AA8: =SUM(E8) -> 5 | AE8: =SUM(I8) -> 1 | AF8: =SUM(J8) -> 9 | AI8: =SUM(M8) -> 3 | AJ8: =SUM(N8) -> 2 | AL8: =SUM(P8) -> 2 | AN8: =SUM(R8) -> 3 | AO8: =SUM(S8) -> 5 | AP8: =SUM(T8) -> 2 | AQ8: =SUM(U8) -> 2 | AR8: =SUM(Z8:AQ8) -> 34 | AS8: =SUM(Z9:AQ9) -> 15380
C9: Gewicht | D9: 0 | E9: 2900 | F9: 240 | G9: 0 | H9: 1040 | I9: 1980 | J9: 750 | K9: 950 | L9: 510 | M9: 1200 | N9: 3680 | O9: 0 | P9: 1250 | Q9: 0 | R9: 110 | S9: 80 | T9: 3170 | U9: 260 | Y9: Gewicht | AA9: =SUM(E9) -> 2900 | AE9: =SUM(I9) -> 1980 | AF9: =SUM(J9) -> 750 | AI9: =SUM(M9) -> 1200 | AJ9: =SUM(N9) -> 3680 | AL9: =SUM(P9) -> 1250 | AN9: =SUM(R9) -> 110 | AO9: =SUM(S9) -> 80 | AP9: =SUM(T9) -> 3170 | AQ9: =SUM(U9) -> 260
A10: Geiben Carlo | B10: Vet | C10: Punkte | D10: 19 | E10: 8 | F10: 1 | G10: 20 | H10: 3 | I10: 15 | J10: 4 | K10: 4 | L10: 1 | M10: 6 | N10: 16 | O10: 2 | P10: 5 | Q10: 15 | R10: 15 | S10: 20 | T10: 5 | U10: 4 | W10: Geiben Carlo | X10: Vet | Y10: Punkte | AB10: =SUM(F10) -> 1 | AD10: =SUM(H10) -> 3 | AF10: =SUM(J10) -> 4 | AG10: =SUM(K10) -> 4 | AH10: =SUM(L10) -> 1 | AI10: =SUM(M10) -> 6 | AK10: =SUM(O10) -> 2 | AL10: =SUM(P10) -> 5 | AP10: =SUM(T10) -> 5 | AQ10: =SUM(U10) -> 4 | AR10: =SUM(Z10:AQ10) -> 35 | AS10: =SUM(Z11:AQ11) -> 21600
C11: Gewicht | D11: 0 | E11: 1660 | F11: 4490 | G11: 0 | H11: 2890 | I11: 0 | J11: 2570 | K11: 2470 | L11: 5230 | M11: 600 | N11: 0 | O11: 1880 | P11: 740 | Q11: 0 | R11: 0 | S11: 0 | T11: 690 | U11: 40 | Y11: Gewicht | AB11: =SUM(F11) -> 4490 | AD11: =SUM(H11) -> 2890 | AF11: =SUM(J11) -> 2570 | AG11: =SUM(K11) -> 2470 | AH11: =SUM(L11) -> 5230 | AI11: =SUM(M11) -> 600 | AK11: =SUM(O11) -> 1880 | AL11: =SUM(P11) -> 740 | AP11: =SUM(T11) -> 690 | AQ11: =SUM(U11) -> 40
A12: Reding Serge | B12: Sen | C12: Punkte | D12: 5 | E12: 4 | F12: 4 | G12: 29 | H12: 7 | I12: 15 | J12: 2 | K12: 3 | L12: 20 | M12: 1 | N12: 7 | O12: 1 | P12: 19 | Q12: 24 | R12: 15 | S12: 2 | T12: 10 | U12: 26 | W12: Reding Serge | X12: Sen | Y12: Punkte | Z12: =SUM(D12) -> 5 | AA12: =SUM(E12) -> 4 | AB12: =SUM(F12) -> 4 | AD12: =SUM(H12) -> 7 | AF12: =SUM(J12) -> 2 | AG12: =SUM(K12) -> 3 | AI12: =SUM(M12) -> 1 | AJ12: =SUM(N12) -> 7 | AK12: =SUM(O12) -> 1 | AO12: =SUM(S12) -> 2 | AR12: =SUM(Z12:AQ12) -> 36 | AS12: =SUM(Z13:AQ13) -> 28290
C13: Gewicht | D13: 730 | E13: 2990 | F13: 3160 | G13: 0 | H13: 1730 | I13: 0 | J13: 3240 | K13: 2640 | L13: 0 | M13: 8510 | N13: 1000 | O13: 3030 | P13: 0 | Q13: 0 | R13: 0 | S13: 1260 | T13: 330 | U13: 0 | Y13: Gewicht | Z13: =SUM(D13) -> 730 | AA13: =SUM(E13) -> 2990 | AB13: =SUM(F13) -> 3160 | AD13: =SUM(H13) -> 1730 | AF13: =SUM(J13) -> 3240 | AG13: =SUM(K13) -> 2640 | AI13: =SUM(M13) -> 8510 | AJ13: =SUM(N13) -> 1000 | AK13: =SUM(O13) -> 3030 | AO13: =SUM(S13) -> 1260
A14: Kartheiser Gilles | B14: Sen | C14: Punkte | D14: 19 | E14: 6 | F14: 9 | G14: 29 | H14: 8 | I14: 24 | J14: 21 | K14: 6 | L14: 7 | M14: 10 | N14: 3 | O14: 3 | P14: 3 | Q14: 24 | R14: 1 | S14: 5 | T14: 13 | U14: 1 | W14: Kartheiser Gilles | X14: Sen | Y14: Punkte | AA14: =SUM(E14) -> 6 | AD14: =SUM(H14) -> 8 | AG14: =SUM(K14) -> 6 | AH14: =SUM(L14) -> 7 | AJ14: =SUM(N14) -> 3 | AK14: =SUM(O14) -> 3 | AL14: =SUM(P14) -> 3 | AN14: =SUM(R14) -> 1 | AO14: =SUM(S14) -> 5 | AQ14: =SUM(U14) -> 1 | AR14: =SUM(Z14:AQ14) -> 43 | AS14: =SUM(Z15:AQ15) -> 14900
C15: Gewicht | D15: 0 | E15: 2560 | F15: 1080 | G15: 0 | H15: 1310 | I15: 0 | J15: 0 | K15: 2280 | L15: 2060 | M15: 90 | N15: 2840 | O15: 1570 | P15: 790 | Q15: 0 | R15: 490 | S15: 80 | T15: 240 | U15: 920 | Y15: Gewicht | AA15: =SUM(E15) -> 2560 | AD15: =SUM(H15) -> 1310 | AG15: =SUM(K15) -> 2280 | AH15: =SUM(L15) -> 2060 | AJ15: =SUM(N15) -> 2840 | AK15: =SUM(O15) -> 1570 | AL15: =SUM(P15) -> 790 | AN15: =SUM(R15) -> 490 | AO15: =SUM(S15) -> 80 | AQ15: =SUM(U15) -> 920
A16: Heirens Albert | B16: Vet | C16: Punkte | D16: 7 | E16: 7 | F16: 7 | G16: 3 | H16: 5 | I16: 15 | J16: 7 | K16: 20 | L16: 3 | M16: 22 | N16: 4 | O16: 5 | P16: 19 | Q16: 7 | R16: 15 | S16: 20 | T16: 14 | U16: 26 | W16: Heirens Albert | X16: Vet | Y16: Punkte | Z16: =SUM(D16) -> 7 | AA16: =SUM(E16) -> 7 | AB16: =SUM(F16) -> 7 | AC16: =SUM(G16) -> 3 | AD16: =SUM(H16) -> 5 | AF16: =SUM(J16) -> 7 | AH16: =SUM(L16) -> 3 | AJ16: =SUM(N16) -> 4 | AK16: =SUM(O16) -> 5 | AM16: =SUM(Q16) -> 7 | AR16: =SUM(Z16:AQ16) -> 55 | AS16: =SUM(Z17:AQ17) -> 15560
C17: Gewicht | D17: 280 | E17: 2010 | F17: 2660 | G17: 180 | H17: 1940 | I17: 0 | J17: 1690 | K17: 0 | L17: 3520 | M17: 0 | N17: 2040 | O17: 1230 | P17: 0 | Q17: 10 | R17: 0 | S17: 0 | T17: 190 | U17: 0 | Y17: Gewicht | Z17: =SUM(D17) -> 280 | AA17: =SUM(E17) -> 2010 | AB17: =SUM(F17) -> 2660 | AC17: =SUM(G17) -> 180 | AD17: =SUM(H17) -> 1940 | AF17: =SUM(J17) -> 1690 | AH17: =SUM(L17) -> 3520 | AJ17: =SUM(N17) -> 2040 | AK17: =SUM(O17) -> 1230 | AM17: =SUM(Q17) -> 10
A18: Hahn Francis | B18: Sen | C18: Punkte | D18: 8 | E18: 10 | F18: 8 | G18: 20 | H18: 9 | I18: 15 | J18: 3 | K18: 1 | L18: 8 | M18: 31 | N18: 12 | O18: 17 | P18: 4 | Q18: 15 | R18: 24 | S18: 29 | T18: 8 | U18: 26 | W18: Hahn Francis | X18: Sen | Y18: Punkte | Z18: =SUM(D18) -> 8 | AA18: =SUM(E18) -> 10 | AB18: =SUM(F18) -> 8 | AD18: =SUM(H18) -> 9 | AF18: =SUM(J18) -> 3 | AG18: =SUM(K18) -> 1 | AH18: =SUM(L18) -> 8 | AJ18: =SUM(N18) -> 12 | AL18: =SUM(P18) -> 4 | AP18: =SUM(T18) -> 8 | AR18: =SUM(Z18:AQ18) -> 71 | AS18: =SUM(Z19:AQ19) -> 11820
C19: Gewicht | D19: 120 | E19: 180 | F19: 1710 | G19: 0 | H19: 1180 | I19: 0 | J19: 2880 | K19: 2920 | L19: 1540 | M19: 0 | N19: 60 | O19: 0 | P19: 780 | Q19: 0 | R19: 0 | S19: 0 | T19: 450 | U19: 0 | Y19: Gewicht | Z19: =SUM(D19) -> 120 | AA19: =SUM(E19) -> 180 | AB19: =SUM(F19) -> 1710 | AD19: =SUM(H19) -> 1180 | AF19: =SUM(J19) -> 2880 | AG19: =SUM(K19) -> 2920 | AH19: =SUM(L19) -> 1540 | AJ19: =SUM(N19) -> 60 | AL19: =SUM(P19) -> 780 | AP19: =SUM(T19) -> 450
A20: Huberty Nico | B20: Vet | C20: Punkte | D20: 19 | E20: 22 | F20: 21 | G20: 20 | H20: 5 | I20: 15 | J20: 6 | K20: 8 | L20: 5 | M20: 22 | N20: 12 | O20: 17 | P20: 28 | Q20: 6 | R20: 2 | S20: 20 | T20: 10 | U20: 17 | W20: Huberty Nico | X20: Vet | Y20: Punkte | AD20: =SUM(H20) -> 5 | AE20: =SUM(I20) -> 15 | AF20: =SUM(J20) -> 6 | AG20: =SUM(K20) -> 8 | AH20: =SUM(L20) -> 5 | AJ20: =SUM(N20) -> 12 | AK20: =SUM(O20) -> 17 | AM20: =SUM(Q20) -> 6 | AN20: =SUM(R20) -> 2 | AP20: =SUM(T20) -> 10 | AR20: =SUM(Z20:AQ20) -> 86 | AS20: =SUM(Z21:AQ21) -> 8540
C21: Gewicht | D21: 0 | E21: 0 | F21: 0 | G21: 0 | H21: 1940 | I21: 0 | J21: 1820 | K21: 1250 | L21: 2840 | M21: 0 | N21: 60 | O21: 0 | P21: 0 | Q21: 20 | R21: 280 | S21: 0 | T21: 330 | U21: 0 | Y21: Gewicht | AD21: =SUM(H21) -> 1940 | AE21: =SUM(I21) -> 0 | AF21: =SUM(J21) -> 1820 | AG21: =SUM(K21) -> 1250 | AH21: =SUM(L21) -> 2840 | AJ21: =SUM(N21) -> 60 | AK21: =SUM(O21) -> 0 | AM21: =SUM(Q21) -> 20 | AN21: =SUM(R21) -> 280 | AP21: =SUM(T21) -> 330
A22: Schmitz Ben | B22: U23 | C22: Punkte | D22: 6 | E22: 22 | F22: 21 | G22: 4 | H22: 20 | I22: 24 | J22: 21 | K22: 5 | L22: 20 | M22: 31 | N22: 6 | O22: 17 | P22: 11 | Q22: 1 | R22: 15 | S22: 29 | T22: 6 | U22: 26 | W22: Schmitz Ben | X22: U23 | Y22: Punkte | Z22: =SUM(D22) -> 6 | AC22: =SUM(G22) -> 4 | AD22: =SUM(H22) -> 20 | AG22: =SUM(K22) -> 5 | AJ22: =SUM(N22) -> 6 | AK22: =SUM(O22) -> 17 | AL22: =SUM(P22) -> 11 | AM22: =SUM(Q22) -> 1 | AN22: =SUM(R22) -> 15 | AP22: =SUM(T22) -> 6 | AR22: =SUM(Z22:AQ22) -> 91 | AS22: =SUM(Z23:AQ23) -> 6040
C23: Gewicht | D23: 380 | E23: 0 | F23: 0 | G23: 150 | H23: 0 | I23: 0 | J23: 0 | K23: 2350 | L23: 0 | M23: 0 | N23: 1520 | O23: 0 | P23: 260 | Q23: 840 | R23: 0 | S23: 0 | T23: 540 | U23: 0 | Y23: Gewicht | Z23: =SUM(D23) -> 380 | AC23: =SUM(G23) -> 150 | AD23: =SUM(H23) -> 0 | AG23: =SUM(K23) -> 2350 | AJ23: =SUM(N23) -> 1520 | AK23: =SUM(O23) -> 0 | AL23: =SUM(P23) -> 260 | AM23: =SUM(Q23) -> 840 | AN23: =SUM(R23) -> 0 | AP23: =SUM(T23) -> 540
A24: Weirich Serge | B24: Sen | C24: Punkte | D24: 3 | E24: 22 | F24: 21 | G24: 5 | H24: 20 | I24: 15 | J24: 21 | K24: 20 | L24: 20 | M24: 5 | N24: 5 | O24: 17 | P24: 7 | Q24: 24 | R24: 15 | S24: 20 | T24: 26 | U24: 17 | W24: Weirich Serge | X24: Sen | Y24: Punkte | Z24: =SUM(D24) -> 3 | AC24: =SUM(G24) -> 5 | AE24: =SUM(I24) -> 15 | AG24: =SUM(K24) -> 20 | AI24: =SUM(M24) -> 5 | AJ24: =SUM(N24) -> 5 | AK24: =SUM(O24) -> 17 | AL24: =SUM(P24) -> 7 | AN24: =SUM(R24) -> 15 | AQ24: =SUM(U24) -> 17 | AR24: =SUM(Z24:AQ24) -> 109 | AS24: =SUM(Z25:AQ25) -> 3820
C25: Gewicht | D25: 1080 | E25: 0 | F25: 0 | G25: 140 | H25: 0 | I25: 0 | J25: 0 | K25: 0 | L25: 0 | M25: 640 | N25: 1620 | O25: 0 | P25: 340 | Q25: 0 | R25: 0 | S25: 0 | T25: 0 | U25: 0 | Y25: Gewicht | Z25: =SUM(D25) -> 1080 | AC25: =SUM(G25) -> 140 | AE25: =SUM(I25) -> 0 | AG25: =SUM(K25) -> 0 | AI25: =SUM(M25) -> 640 | AJ25: =SUM(N25) -> 1620 | AK25: =SUM(O25) -> 0 | AL25: =SUM(P25) -> 340 | AN25: =SUM(R25) -> 0 | AQ25: =SUM(U25) -> 0
A26: Hari Pol | B26: Sen | C26: Punkte | D26: 19 | E26: 22 | F26: 21 | G26: 20 | H26: 20 | I26: 15 | J26: 21 | K26: 20 | L26: 20 | M26: 8 | N26: 1 | O26: 17 | P26: 6 | Q26: 15 | R26: 5 | S26: 20 | T26: 14 | U26: 17 | W26: Hari Pol | X26: Sen | Y26: Punkte | Z26: =SUM(D26) -> 19 | AE26: =SUM(I26) -> 15 | AI26: =SUM(M26) -> 8 | AJ26: =SUM(N26) -> 1 | AK26: =SUM(O26) -> 17 | AL26: =SUM(P26) -> 6 | AM26: =SUM(Q26) -> 15 | AN26: =SUM(R26) -> 5 | AP26: =SUM(T26) -> 14 | AQ26: =SUM(U26) -> 17 | AR26: =SUM(Z26:AQ26) -> 117 | AS26: =SUM(Z27:AQ27) -> 7820
C27: Gewicht | D27: 0 | E27: 0 | F27: 0 | G27: 0 | H27: 0 | I27: 0 | J27: 0 | K27: 0 | L27: 0 | M27: 180 | N27: 7000 | O27: 0 | P27: 390 | Q27: 0 | R27: 60 | S27: 0 | T27: 190 | U27: 0 | Y27: Gewicht | Z27: =SUM(D27) -> 0 | AE27: =SUM(I27) -> 0 | AI27: =SUM(M27) -> 180 | AJ27: =SUM(N27) -> 7000 | AK27: =SUM(O27) -> 0 | AL27: =SUM(P27) -> 390 | AM27: =SUM(Q27) -> 0 | AN27: =SUM(R27) -> 60 | AP27: =SUM(T27) -> 190 | AQ27: =SUM(U27) -> 0
A28: Hanff Francois | B28: Sen | C28: Punkte | D28: 19 | E28: 22 | F28: 3 | G28: 20 | H28: 4 | I28: 15 | J28: 8 | K28: 7 | L28: 6 | M28: 22 | N28: 25 | O28: 17 | P28: 28 | Q28: 24 | R28: 24 | S28: 29 | T28: 26 | U28: 26 | W28: Hanff Francois | X28: Sen | Y28: Punkte | Z28: =SUM(D28) -> 19 | AA28: =SUM(E28) -> 22 | AB28: =SUM(F28) -> 3 | AC28: =SUM(G28) -> 20 | AD28: =SUM(H28) -> 4 | AE28: =SUM(I28) -> 15 | AF28: =SUM(J28) -> 8 | AG28: =SUM(K28) -> 7 | AH28: =SUM(L28) -> 6 | AK28: =SUM(O28) -> 17 | AR28: =SUM(Z28:AQ28) -> 121 | AS28: =SUM(Z29:AQ29) -> 13300
C29: Gewicht | D29: 0 | E29: 0 | F29: 4140 | G29: 0 | H29: 2780 | I29: 0 | J29: 1610 | K29: 1970 | L29: 2800 | M29: 0 | N29: 0 | O29: 0 | P29: 0 | Q29: 0 | R29: 0 | S29: 0 | T29: 0 | U29: 0 | Y29: Gewicht | Z29: =SUM(D29) -> 0 | AA29: =SUM(E29) -> 0 | AB29: =SUM(F29) -> 4140 | AC29: =SUM(G29) -> 0 | AD29: =SUM(H29) -> 2780 | AE29: =SUM(I29) -> 0 | AF29: =SUM(J29) -> 1610 | AG29: =SUM(K29) -> 1970 | AH29: =SUM(L29) -> 2800 | AK29: =SUM(O29) -> 0
A30: Schmitt Victor | B30: Vet | C30: Punkte | D30: 19 | E30: 22 | F30: 21 | G30: 20 | H30: 20 | I30: 24 | J30: 21 | K30: 20 | L30: 20 | M30: 31 | N30: 9 | O30: 17 | P30: 10 | Q30: 7 | R30: 15 | S30: 4 | T30: 6 | U30: 17 | W30: Schmitt Victor | X30: Vet | Y30: Punkte | Z30: =SUM(D30) -> 19 | AH30: =SUM(L30) -> 20 | AJ30: =SUM(N30) -> 9 | AK30: =SUM(O30) -> 17 | AL30: =SUM(P30) -> 10 | AM30: =SUM(Q30) -> 7 | AN30: =SUM(R30) -> 15 | AO30: =SUM(S30) -> 4 | AP30: =SUM(T30) -> 6 | AQ30: =SUM(U30) -> 17 | AR30: =SUM(Z30:AQ30) -> 124 | AS30: =SUM(Z31:AQ31) -> 1360
C31: Gewicht | D31: 0 | E31: 0 | F31: 0 | G31: 0 | H31: 0 | I31: 0 | J31: 0 | K31: 0 | L31: 0 | M31: 0 | N31: 340 | O31: 0 | P31: 310 | Q31: 10 | R31: 0 | S31: 160 | T31: 540 | U31: 0 | Y31: Gewicht | Z31: =SUM(D31) -> 0 | AH31: =SUM(L31) -> 0 | AJ31: =SUM(N31) -> 340 | AK31: =SUM(O31) -> 0 | AL31: =SUM(P31) -> 310 | AM31: =SUM(Q31) -> 10 | AN31: =SUM(R31) -> 0 | AO31: =SUM(S31) -> 160 | AP31: =SUM(T31) -> 540 | AQ31: =SUM(U31) -> 0
A32: Huberty Steve | B32: Sen | C32: Punkte | D32: 28 | E32: 22 | F32: 21 | G32: 29 | H32: 20 | I32: 24 | J32: 21 | K32: 20 | L32: 20 | M32: 4 | N32: 25 | O32: 17 | P32: 9 | Q32: 2 | R32: 15 | S32: 20 | T32: 12 | U32: 26 | W32: Huberty Steve | X32: Sen | Y32: Punkte | AD32: =SUM(H32) -> 20 | AG32: =SUM(K32) -> 20 | AH32: =SUM(L32) -> 20 | AI32: =SUM(M32) -> 4 | AK32: =SUM(O32) -> 17 | AL32: =SUM(P32) -> 9 | AM32: =SUM(Q32) -> 2 | AN32: =SUM(R32) -> 15 | AO32: =SUM(S32) -> 20 | AP32: =SUM(T32) -> 12 | AR32: =SUM(Z32:AQ32) -> 139 | AS32: =SUM(Z33:AQ33) -> 1690
C33: Gewicht | D33: 0 | E33: 0 | F33: 0 | G33: 0 | H33: 0 | I33: 0 | J33: 0 | K33: 0 | L33: 0 | M33: 740 | N33: 0 | O33: 0 | P33: 330 | Q33: 360 | R33: 0 | S33: 0 | T33: 260 | U33: 0 | Y33: Gewicht | AD33: =SUM(H33) -> 0 | AG33: =SUM(K33) -> 0 | AH33: =SUM(L33) -> 0 | AI33: =SUM(M33) -> 740 | AK33: =SUM(O33) -> 0 | AL33: =SUM(P33) -> 330 | AM33: =SUM(Q33) -> 360 | AN33: =SUM(R33) -> 0 | AO33: =SUM(S33) -> 0 | AP33: =SUM(T33) -> 260
A34: Prim Jean | B34: Vet | C34: Punkte | D34: 19 | E34: 9 | F34: 10 | G34: 29 | H34: 20 | I34: 24 | J34: 11 | K34: 20 | L34: 20 | M34: 31 | N34: 25 | O34: 17 | P34: 19 | Q34: 24 | R34: 3 | S34: 20 | T34: 26 | U34: 17 | W34: Prim Jean | X34: Vet | Y34: Punkte | Z34: =SUM(D34) -> 19 | AA34: =SUM(E34) -> 9 | AB34: =SUM(F34) -> 10 | AD34: =SUM(H34) -> 20 | AF34: =SUM(J34) -> 11 | AH34: =SUM(L34) -> 20 | AK34: =SUM(O34) -> 17 | AL34: =SUM(P34) -> 19 | AN34: =SUM(R34) -> 3 | AQ34: =SUM(U34) -> 17 | AR34: =SUM(Z34:AQ34) -> 145 | AS34: =SUM(Z35:AQ35) -> 1670
C35: Gewicht | D35: 0 | E35: 450 | F35: 770 | G35: 0 | H35: 0 | I35: 0 | J35: 340 | K35: 0 | L35: 0 | M35: 0 | N35: 0 | O35: 0 | P35: 0 | Q35: 0 | R35: 110 | S35: 0 | T35: 0 | U35: 0 | Y35: Gewicht | Z35: =SUM(D35) -> 0 | AA35: =SUM(E35) -> 450 | AB35: =SUM(F35) -> 770 | AD35: =SUM(H35) -> 0 | AF35: =SUM(J35) -> 340 | AH35: =SUM(L35) -> 0 | AK35: =SUM(O35) -> 0 | AL35: =SUM(P35) -> 0 | AN35: =SUM(R35) -> 110 | AQ35: =SUM(U35) -> 0
A36: Koetz Marc | B36: Sen | C36: Punkte | D36: 2 | E36: 13 | F36: 21 | G36: 20 | H36: 20 | I36: 15 | J36: 21 | K36: 20 | L36: 20 | M36: 31 | N36: 25 | O36: 17 | P36: 19 | Q36: 24 | R36: 24 | S36: 29 | T36: 4 | U36: 17 | W36: Koetz Marc | X36: Sen | Y36: Punkte | Z36: =SUM(D36) -> 2 | AA36: =SUM(E36) -> 13 | AC36: =SUM(G36) -> 20 | AD36: =SUM(H36) -> 20 | AE36: =SUM(I36) -> 15 | AH36: =SUM(L36) -> 20 | AK36: =SUM(O36) -> 17 | AL36: =SUM(P36) -> 19 | AP36: =SUM(T36) -> 4 | AQ36: =SUM(U36) -> 17 | AR36: =SUM(Z36:AQ36) -> 147 | AS36: =SUM(Z37:AQ37) -> 3540
C37: Gewicht | D37: 1670 | E37: 0 | F37: 0 | G37: 0 | H37: 0 | I37: 0 | J37: 0 | K37: 0 | L37: 0 | M37: 0 | N37: 0 | O37: 0 | P37: 0 | Q37: 0 | R37: 0 | S37: 0 | T37: 1870 | U37: 0 | Y37: Gewicht | Z37: =SUM(D37) -> 1670 | AA37: =SUM(E37) -> 0 | AC37: =SUM(G37) -> 0 | AD37: =SUM(H37) -> 0 | AE37: =SUM(I37) -> 0 | AH37: =SUM(L37) -> 0 | AK37: =SUM(O37) -> 0 | AL37: =SUM(P37) -> 0 | AP37: =SUM(T37) -> 1870 | AQ37: =SUM(U37) -> 0
A38: Metzger Fernand | B38: Sen | C38: Punkte | D38: 19 | E38: 13 | F38: 21 | G38: 1 | H38: 20 | I38: 24 | J38: 21 | K38: 20 | L38: 20 | M38: 22 | N38: 11 | O38: 17 | P38: 28 | Q38: 24 | R38: 24 | S38: 29 | T38: 26 | U38: 26 | W38: Metzger Fernand | X38: Sen | Y38: Punkte | Z38: =SUM(D38) -> 19 | AA38: =SUM(E38) -> 13 | AB38: =SUM(F38) -> 21 | AC38: =SUM(G38) -> 1 | AD38: =SUM(H38) -> 20 | AF38: =SUM(J38) -> 21 | AG38: =SUM(K38) -> 20 | AH38: =SUM(L38) -> 20 | AJ38: =SUM(N38) -> 11 | AK38: =SUM(O38) -> 17 | AR38: =SUM(Z38:AQ38) -> 163 | AS38: =SUM(Z39:AQ39) -> 930
C39: Gewicht | D39: 0 | E39: 0 | F39: 0 | G39: 690 | H39: 0 | I39: 0 | J39: 0 | K39: 0 | L39: 0 | M39: 0 | N39: 240 | O39: 0 | P39: 0 | Q39: 0 | R39: 0 | S39: 0 | T39: 0 | U39: 0 | Y39: Gewicht | Z39: =SUM(D39) -> 0 | AA39: =SUM(E39) -> 0 | AB39: =SUM(F39) -> 0 | AC39: =SUM(G39) -> 690 | AD39: =SUM(H39) -> 0 | AF39: =SUM(J39) -> 0 | AG39: =SUM(K39) -> 0 | AH39: =SUM(L39) -> 0 | AJ39: =SUM(N39) -> 240 | AK39: =SUM(O39) -> 0
A40: Boewer Nic | B40: Vet | C40: Punkte | D40: 28 | E40: 22 | F40: 21 | G40: 20 | H40: 20 | I40: 24 | J40: 21 | K40: 20 | L40: 20 | M40: 10 | N40: 25 | O40: 17 | P40: 19 | Q40: 24 | R40: 24 | S40: 8 | T40: 26 | U40: 17 | W40: Boewer Nic | X40: Vet | Y40: Punkte | AC40: =SUM(G40) -> 20 | AD40: =SUM(H40) -> 20 | AF40: =SUM(J40) -> 21 | AG40: =SUM(K40) -> 20 | AH40: =SUM(L40) -> 20 | AI40: =SUM(M40) -> 10 | AK40: =SUM(O40) -> 17 | AL40: =SUM(P40) -> 19 | AO40: =SUM(S40) -> 8 | AQ40: =SUM(U40) -> 17 | AR40: =SUM(Z40:AQ40) -> 172 | AS40: =SUM(Z41:AQ41) -> 110
...

Sheet Reglement
